Workbook
Name FADates: working!#REF!,working!#REF!

Sheet working
A1: Inflation Rate
A2: 0.02
E3: Effort | K3: Year 1 | S3: Year 2 | AA3: Year 3 | AI3: Year 4 | AQ3: Year 5
C5: Salary | E5: Effort in Months | AY5: Salary Total | AZ5: Total Hrs | BA5: Project
C6: Base | D6: Appointment | E6: Yr 1 | F6: Yr 2 | G6: Yr 3 | H6: Yr 4 | I6: Yr 5 | K6: 12-Month | L6: 9-Month | M6: Hourly Rate | N6: Hours | O6: Salary | P6: F/B | Q6: Total | S6: 12-Month | T6: 9-Month | U6: Hourly Rate | V6: Hours | W6: Salary | X6: F/B | Y6: Total | AA6: 12-Month | AB6: 9-Month | AC6: Hourly Rate | AD6: Hours | AE6: Salary | AF6: F/B | AG6: Total | AI6: 12-Month | AJ6: 9-Month | AK6: Hourly Rate | AL6: Hours | AM6: Salary | AN6: F/B | AO6: Total | AQ6: 12-Month | AR6: 9-Month | AS6: Hourly Rate | AT6: Hours | AU6: Salary | AV6: F/B | AW6: Total | BA6: Total
A7: A. Senior Personnel | B7: Name
A8: 1. | C8: 0 | D8: C/9 | E8: 0 | F8: 0 | G8: 0 | H8: 0 | I8: 0 | K8: {=_xlfn.IFS($D8="choose:",0,$D8="a/12",$C8,$D8="c/9",$C8/9*12,$D8="salary cap",$A$4)} -> 0 | L8: {=_xlfn.IFS($D8="choose:",0,$D8="a/12",$C8/12*9,$D8="c/9",$C8,$D8="salary cap",$A$5)} -> 0 | M8: =K8/12/173.33333333 -> 0 | N8: =E8*173.333333 -> 0 | O8: =ROUND((K8/12*$E8),0) -> 0 | P8: =ROUND(O8*$A$29,0) -> 0 | Q8: =P8+O8 -> 0 | S8: =IF($D8="salary cap",$A$4,ROUND(K8*(1+$A$2),0)) -> 0 | T8: =IF($D8="salary cap",$A$5,ROUND(L8*(1+$A$2),0)) -> 0 | U8: =S8/12/173.33333333 -> 0 | V8: =F8*173.333333 -> 0 | W8: =ROUND((S8/12*$F8),0) -> 0 | X8: =ROUND(W8*$A$29,0) -> 0 | Y8: =X8+W8 -> 0 | AA8: =IF($D8="salary cap",$A$4,ROUND(S8*(1+$A$2),0)) -> 0 | AB8: =IF($D8="salary cap",$A$5,ROUND(T8*(1+$A$2),0)) -> 0 | AC8: =AA8/12/173.33333333 -> 0 | AD8: =G8*173.333333 -> 0 | AE8: =ROUND((AA8/12*$G8),0) -> 0 | AF8: =ROUND(AE8*$A$29,0) -> 0 | AG8: =AF8+AE8 -> 0 | AI8: =IF($D8="salary cap",$A$4,ROUND(AA8*(1+$A$2),0)) -> 0 | AJ8: =IF($D8="salary cap",$A$5,ROUND(AB8*(1+$A$2),0)) -> 0 | AK8: =AI8/12/173.33333333 -> 0 | AL8: =H8*173.333333 -> 0 | AM8: =ROUND((AI8/12*$H8),0) -> 0 | AN8: =ROUND(AM8*$A$29,0) -> 0 | AO8: =AN8+AM8 -> 0 | AQ8: =IF($D8="salary cap",$A$4,ROUND(AI8*(1+$A$2),0)) -> 0 | AR8: =IF($D8="salary cap",$A$5,ROUND(AJ8*(1+$A$2),0)) -> 0 | AS8: =AQ8/12/173.33333333 -> 0 | AT8: =I8*173.333333 -> 0 | AU8: =ROUND((AQ8/12*$I8),0) -> 0 | AV8: =ROUND(AU8*$A$29,0) -> 0 | AW8: =AV8+AU8 -> 0 | AY8: =O8+W8+AE8+AM8+AU8 -> 0 | AZ8: =SUM(N8+V8+AD8+AL8+AT8) -> 0 | BA8: =AW8+AO8+AG8+Y8+Q8 -> 0
A9: 2. | C9: 0 | D9: Choose: | E9: 0 | F9: 0 | G9: 0 | H9: 0 | I9: 0 | K9: {=_xlfn.IFS($D9="choose:",0,$D9="a/12",$C9,$D9="c/9",$C9/9*12,$D9="salary cap",$A$4)} -> 0 | L9: {=_xlfn.IFS($D9="choose:",0,$D9="a/12",$C9/12*9,$D9="c/9",$C9,$D9="salary cap",$A$5)} -> 0 | M9: =K9/12/173.33333333 -> 0 | N9: =E9*173.333333 -> 0 | O9: =ROUND((K9/12*$E9),0) -> 0 | P9: =ROUND(O9*$A$29,0) -> 0 | Q9: =P9+O9 -> 0 | S9: =IF($D9="salary cap",$A$4,ROUND(K9*(1+$A$2),0)) -> 0 | T9: =IF($D9="salary cap",$A$5,ROUND(L9*(1+$A$2),0)) -> 0 | U9: =S9/12/173.33333333 -> 0 | V9: =F9*173.333333 -> 0 | W9: =ROUND((S9/12*$F9),0) -> 0 | X9: =ROUND(W9*$A$29,0) -> 0 | Y9: =X9+W9 -> 0 | AA9: =IF($D9="salary cap",$A$4,ROUND(S9*(1+$A$2),0)) -> 0 | AB9: =IF($D9="salary cap",$A$5,ROUND(T9*(1+$A$2),0)) -> 0 | AC9: =AA9/12/173.33333333 -> 0 | AD9: =G9*173.333333 -> 0 | AE9: =ROUND((AA9/12*$G9),0) -> 0 | AF9: =ROUND(AE9*$A$29,0) -> 0 | AG9: =AF9+AE9 -> 0 | AI9: =IF($D9="salary cap",$A$4,ROUND(AA9*(1+$A$2),0)) -> 0 | AJ9: =IF($D9="salary cap",$A$5,ROUND(AB9*(1+$A$2),0)) -> 0 | AK9: =AI9/12/173.33333333 -> 0 | AL9: =H9*173.333333 -> 0 | AM9: =ROUND((AI9/12*$H9),0) -> 0 | AN9: =ROUND(AM9*$A$29,0) -> 0 | AO9: =AN9+AM9 -> 0 | AQ9: =IF($D9="salary cap",$A$4,ROUND(AI9*(1+$A$2),0)) -> 0 | AR9: =IF($D9="salary cap",$A$5,ROUND(AJ9*(1+$A$2),0)) -> 0 | AS9: =AQ9/12/173.33333333 -> 0 | AT9: =I9*173.333333 -> 0 | AU9: =ROUND((AQ9/12*$I9),0) -> 0 | AV9: =ROUND(AU9*$A$29,0) -> 0 | AW9: =AV9+AU9 -> 0 | AY9: =O9+W9+AE9+AM9+AU9 -> 0 | AZ9: =SUM(N9+V9+AD9+AL9+AT9) -> 0 | BA9: =AW9+AO9+AG9+Y9+Q9 -> 0
A10: 3. | C10: 0 | D10: Choose: | E10: 0 | F10: 0 | G10: 0 | H10: 0 | I10: 0 | K10: {=_xlfn.IFS($D10="choose:",0,$D10="a/12",$C10,$D10="c/9",$C10/9*12,$D10="salary cap",$A$4)} -> 0 | L10: {=_xlfn.IFS($D10="choose:",0,$D10="a/12",$C10/12*9,$D10="c/9",$C10,$D10="salary cap",$A$5)} -> 0 | M10: =K10/12/173.33333333 -> 0 | N10: =E10*173.333333 -> 0 | O10: =ROUND((K10/12*$E10),0) -> 0 | P10: =ROUND(O10*$A$29,0) -> 0 | Q10: =P10+O10 -> 0 | S10: =IF($D10="salary cap",$A$4,ROUND(K10*(1+$A$2),0)) -> 0 | T10: =IF($D10="salary cap",$A$5,ROUND(L10*(1+$A$2),0)) -> 0 | U10: =S10/12/173.33333333 -> 0 | V10: =F10*173.333333 -> 0 | W10: =ROUND((S10/12*$F10),0) -> 0 | X10: =ROUND(W10*$A$29,0) -> 0 | Y10: =X10+W10 -> 0 | AA10: =IF($D10="salary cap",$A$4,ROUND(S10*(1+$A$2),0)) -> 0 | AB10: =IF($D10="salary cap",$A$5,ROUND(T10*(1+$A$2),0)) -> 0 | AC10: =AA10/12/173.33333333 -> 0 | AD10: =G10*173.333333 -> 0 | AE10: =ROUND((AA10/12*$G10),0) -> 0 | AF10: =ROUND(AE10*$A$29,0) -> 0 | AG10: =AF10+AE10 -> 0 | AI10: =IF($D10="salary cap",$A$4,ROUND(AA10*(1+$A$2),0)) -> 0 | AJ10: =IF($D10="salary cap",$A$5,ROUND(AB10*(1+$A$2),0)) -> 0 | AK10: =AI10/12/173.33333333 -> 0 | AL10: =H10*173.333333 -> 0 | AM10: =ROUND((AI10/12*$H10),0) -> 0 | AN10: =ROUND(AM10*$A$29,0) -> 0 | AO10: =AN10+AM10 -> 0 | AQ10: =IF($D10="salary cap",$A$4,ROUND(AI10*(1+$A$2),0)) -> 0 | AR10: =IF($D10="salary cap",$A$5,ROUND(AJ10*(1+$A$2),0)) -> 0 | AS10: =AQ10/12/173.33333333 -> 0 | AT10: =I10*173.333333 -> 0 | AU10: =ROUND((AQ10/12*$I10),0) -> 0 | AV10: =ROUND(AU10*$A$29,0) -> 0 | AW10: =AV10+AU10 -> 0 | AY10: =O10+W10+AE10+AM10+AU10 -> 0 | AZ10: =SUM(N10+V10+AD10+AL10+AT10) -> 0 | BA10: =AW10+AO10+AG10+Y10+Q10 -> 0
A11: 4. | C11: 0 | D11: Choose: | E11: 0 | F11: 0 | G11: 0 | H11: 0 | I11: 0 | K11: {=_xlfn.IFS($D11="choose:",0,$D11="a/12",$C11,$D11="c/9",$C11/9*12,$D11="salary cap",$A$4)} -> 0 | L11: {=_xlfn.IFS($D11="choose:",0,$D11="a/12",$C11/12*9,$D11="c/9",$C11,$D11="salary cap",$A$5)} -> 0 | M11: =K11/12/173.33333333 -> 0 | N11: =E11*173.333333 -> 0 | O11: =ROUND((K11/12*$E11),0) -> 0 | P11: =ROUND(O11*$A$29,0) -> 0 | Q11: =P11+O11 -> 0 | S11: =IF($D11="salary cap",$A$4,ROUND(K11*(1+$A$2),0)) -> 0 | T11: =IF($D11="salary cap",$A$5,ROUND(L11*(1+$A$2),0)) -> 0 | U11: =S11/12/173.33333333 -> 0 | V11: =F11*173.333333 -> 0 | W11: =ROUND((S11/12*$F11),0) -> 0 | X11: =ROUND(W11*$A$29,0) -> 0 | Y11: =X11+W11 -> 0 | AA11: =IF($D11="salary cap",$A$4,ROUND(S11*(1+$A$2),0)) -> 0 | AB11: =IF($D11="salary cap",$A$5,ROUND(T11*(1+$A$2),0)) -> 0 | AC11: =AA11/12/173.33333333 -> 0 | AD11: =G11*173.333333 -> 0 | AE11: =ROUND((AA11/12*$G11),0) -> 0 | AF11: =ROUND(AE11*$A$29,0) -> 0 | AG11: =AF11+AE11 -> 0 | AI11: =IF($D11="salary cap",$A$4,ROUND(AA11*(1+$A$2),0)) -> 0 | AJ11: =IF($D11="salary cap",$A$5,ROUND(AB11*(1+$A$2),0)) -> 0 | AK11: =AI11/12/173.33333333 -> 0 | AL11: =H11*173.333333 -> 0 | AM11: =ROUND((AI11/12*$H11),0) -> 0 | AN11: =ROUND(AM11*$A$29,0) -> 0 | AO11: =AN11+AM11 -> 0 | AQ11: =IF($D11="salary cap",$A$4,ROUND(AI11*(1+$A$2),0)) -> 0 | AR11: =IF($D11="salary cap",$A$5,ROUND(AJ11*(1+$A$2),0)) -> 0 | AS11: =AQ11/12/173.33333333 -> 0 | AT11: =I11*173.333333 -> 0 | AU11: =ROUND((AQ11/12*$I11),0) -> 0 | AV11: =ROUND(AU11*$A$29,0) -> 0 | AW11: =AV11+AU11 -> 0 | AY11: =O11+W11+AE11+AM11+AU11 -> 0 | AZ11: =SUM(N11+V11+AD11+AL11+AT11) -> 0 | BA11: =AW11+AO11+AG11+Y11+Q11 -> 0
A12: 5. | C12: 0 | D12: Choose: | E12: 0 | F12: 0 | G12: 0 | H12: 0 | I12: 0 | K12: {=_xlfn.IFS($D12="choose:",0,$D12="a/12",$C12,$D12="c/9",$C12/9*12,$D12="salary cap",$A$4)} -> 0 | L12: {=_xlfn.IFS($D12="choose:",0,$D12="a/12",$C12/12*9,$D12="c/9",$C12,$D12="salary cap",$A$5)} -> 0 | M12: =K12/12/173.33333333 -> 0 | N12: =E12*173.333333 -> 0 | O12: =ROUND((K12/12*$E12),0) -> 0 | P12: =ROUND(O12*$A$29,0) -> 0 | Q12: =P12+O12 -> 0 | S12: =IF($D12="salary cap",$A$4,ROUND(K12*(1+$A$2),0)) -> 0 | T12: =IF($D12="salary cap",$A$5,ROUND(L12*(1+$A$2),0)) -> 0 | U12: =S12/12/173.33333333 -> 0 | V12: =F12*173.333333 -> 0 | W12: =ROUND((S12/12*$F12),0) -> 0 | X12: =ROUND(W12*$A$29,0) -> 0 | Y12: =X12+W12 -> 0 | AA12: =IF($D12="salary cap",$A$4,ROUND(S12*(1+$A$2),0)) -> 0 | AB12: =IF($D12="salary cap",$A$5,ROUND(T12*(1+$A$2),0)) -> 0 | AC12: =AA12/12/173.33333333 -> 0 | AD12: =G12*173.333333 -> 0 | AE12: =ROUND((AA12/12*$G12),0) -> 0 | AF12: =ROUND(AE12*$A$29,0) -> 0 | AG12: =AF12+AE12 -> 0 | AI12: =IF($D12="salary cap",$A$4,ROUND(AA12*(1+$A$2),0)) -> 0 | AJ12: =IF($D12="salary cap",$A$5,ROUND(AB12*(1+$A$2),0)) -> 0 | AK12: =AI12/12/173.33333333 -> 0 | AL12: =H12*173.333333 -> 0 | AM12: =ROUND((AI12/12*$H12),0) -> 0 | AN12: =ROUND(AM12*$A$29,0) -> 0 | AO12: =AN12+AM12 -> 0 | AQ12: =IF($D12="salary cap",$A$4,ROUND(AI12*(1+$A$2),0)) -> 0 | AR12: =IF($D12="salary cap",$A$5,ROUND(AJ12*(1+$A$2),0)) -> 0 | AS12: =AQ12/12/173.33333333 -> 0 | AT12: =I12*173.333333 -> 0 | AU12: =ROUND((AQ12/12*$I12),0) -> 0 | AV12: =ROUND(AU12*$A$29,0) -> 0 | AW12: =AV12+AU12 -> 0 | AY12: =O12+W12+AE12+AM12+AU12 -> 0 | AZ12: =SUM(N12+V12+AD12+AL12+AT12) -> 0 | BA12: =AW12+AO12+AG12+Y12+Q12 -> 0
A13: 6. | C13: 0 | D13: Choose: | E13: 0 | F13: 0 | G13: 0 | H13: 0 | I13: 0 | K13: {=_xlfn.IFS($D13="choose:",0,$D13="a/12",$C13,$D13="c/9",$C13/9*12,$D13="salary cap",$A$4)} -> 0 | L13: {=_xlfn.IFS($D13="choose:",0,$D13="a/12",$C13/12*9,$D13="c/9",$C13,$D13="salary cap",$A$5)} -> 0 | M13: =K13/12/173.33333333 -> 0 | N13: =E13*173.333333 -> 0 | O13: =ROUND((K13/12*$E13),0) -> 0 | P13: =ROUND(O13*$A$29,0) -> 0 | Q13: =P13+O13 -> 0 | S13: =IF($D13="salary cap",$A$4,ROUND(K13*(1+$A$2),0)) -> 0 | T13: =IF($D13="salary cap",$A$5,ROUND(L13*(1+$A$2),0)) -> 0 | U13: =S13/12/173.33333333 -> 0 | V13: =F13*173.333333 -> 0 | W13: =ROUND((S13/12*$F13),0) -> 0 | X13: =ROUND(W13*$A$29,0) -> 0 | Y13: =X13+W13 -> 0 | AA13: =IF($D13="salary cap",$A$4,ROUND(S13*(1+$A$2),0)) -> 0 | AB13: =IF($D13="salary cap",$A$5,ROUND(T13*(1+$A$2),0)) -> 0 | AC13: =AA13/12/173.33333333 -> 0 | AD13: =G13*173.333333 -> 0 | AE13: =ROUND((AA13/12*$G13),0) -> 0 | AF13: =ROUND(AE13*$A$29,0) -> 0 | AG13: =AF13+AE13 -> 0 | AI13: =IF($D13="salary cap",$A$4,ROUND(AA13*(1+$A$2),0)) -> 0 | AJ13: =IF($D13="salary cap",$A$5,ROUND(AB13*(1+$A$2),0)) -> 0 | AK13: =AI13/12/173.33333333 -> 0 | AL13: =H13*173.333333 -> 0 | AM13: =ROUND((AI13/12*$H13),0) -> 0 | AN13: =ROUND(AM13*$A$29,0) -> 0 | AO13: =AN13+AM13 -> 0 | AQ13: =IF($D13="salary cap",$A$4,ROUND(AI13*(1+$A$2),0)) -> 0 | AR13: =IF($D13="salary cap",$A$5,ROUND(AJ13*(1+$A$2),0)) -> 0 | AS13: =AQ13/12/173.33333333 -> 0 | AT13: =I13*173.333333 -> 0 | AU13: =ROUND((AQ13/12*$I13),0) -> 0 | AV13: =ROUND(AU13*$A$29,0) -> 0 | AW13: =AV13+AU13 -> 0 | AY13: =O13+W13+AE13+AM13+AU13 -> 0 | AZ13: =SUM(N13+V13+AD13+AL13+AT13) -> 0 | BA13: =AW13+AO13+AG13+Y13+Q13 -> 0
A14: Total Senior Personnel | N14: Total Senior Personnel | O14: =SUM(O8:O13) -> 0 | P14: =SUM(P8:P13) -> 0 | Q14: =SUM(Q8:Q13) -> 0 | W14: =SUM(W8:W13) -> 0 | X14: =SUM(X8:X13) -> 0 | Y14: =SUM(Y8:Y13) -> 0 | AE14: =SUM(AE8:AE13) -> 0 | AF14: =SUM(AF8:AF13) -> 0 | AG14: =SUM(AG8:AG13) -> 0 | AM14: =SUM(AM8:AM13) -> 0 | AN14: =SUM(AN8:AN13) -> 0 | AO14: =SUM(AO8:AO13) -> 0 | AU14: =SUM(AU8:AU13) -> 0 | AV14: =SUM(AV8:AV13) -> 0 | AW14: =SUM(AW8:AW13) -> 0 | AY14: =O14+W14+AE14+AM14+AU14 -> 0 | BA14: =SUM(BA8:BA13) -> 0
E15: Effort in Months
A16: B. Other Personnel | B16: Position (Name, if known) | C16: # employees | D16: A-Basis (12mths) | E16: Yr 1 | F16: Yr 2 | G16: Yr 3 | H16: Yr 4 | I16: Yr 5
A17: 1. Post Doc | C17: 0 | D17: 0 | E17: 5 | F17: 0 | G17: 0 | H17: 0 | I17: 0 | K17: =($D17) -> 0 | M17: =K17/12/173.33333333 -> 0 | N17: =E17*173.333333*$C$17 -> 0 | O17: =ROUND((K17/12*$E17*$C17),0) -> 0 | P17: =ROUND(O17*$A$30,0) -> 0 | Q17: =P17+O17 -> 0 | S17: =ROUND(K17*(1+$A$2),0) -> 0 | U17: =S17/12/173.33333333 -> 0 | V17: =F17*173.333333*$C$17 -> 0 | W17: =ROUND((S17/12*$F17*$C17),0) -> 0 | X17: =ROUND(W17*$A$30,0) -> 0 | Y17: =X17+W17 -> 0 | AA17: =ROUND(S17*(1+$A$2),0) -> 0 | AC17: =AA17/12/173.33333333 -> 0 | AD17: =G17*173.333333*$C$17 -> 0 | AE17: =ROUND((AA17/12*$G17*$C17),0) -> 0 | AF17: =ROUND(AE17*$A$30,0) -> 0 | AG17: =AF17+AE17 -> 0 | AI17: =ROUND(AA17*(1+$A$2),0) -> 0 | AK17: =AI17/12/173.33333333 -> 0 | AL17: =H17*173.333333*$C$17 -> 0 | AM17: =ROUND((AI17/12*$H17*$C17),0) -> 0 | AN17: =ROUND(AM17*$A$30,0) -> 0 | AO17: =AN17+AM17 -> 0 | AQ17: =ROUND(AI17*(1+$A$2),0) -> 0 | AS17: =AQ17/12/173.33333333 -> 0 | AT17: =I17*173.333333*$C$17 -> 0 | AU17: =ROUND((AQ17/12*$I17*$C17),0) -> 0 | AV17: =ROUND(AU17*$A$30,0) -> 0 | AW17: =AV17+AU17 -> 0 | AY17: =O17+W17+AE17+AM17+AU17 -> 0 | AZ17: =SUM(N17+V17+AD17+AL17+AT17) -> 0 | BA17: =AW17+AO17+AG17+Y17+Q17 -> 0
A18: 2. Other Professionals | C18: 0 | D18: 0 | E18: 0 | F18: 0 | G18: 0 | H18: 0 | I18: 0 | K18: =($D18) -> 0 | M18: =K18/12/173.33333333 -> 0 | N18: =E18*173.333333*$C$18 -> 0 | O18: =ROUND((K18/12*$E18*$C18),0) -> 0 | P18: =ROUND(O18*$A$29,0) -> 0 | Q18: =P18+O18 -> 0 | S18: =ROUND(K18*(1+$A$2),0) -> 0 | U18: =S18/12/173.33333333 -> 0 | V18: =F18*173.333333*$C$18 -> 0 | W18: =ROUND((S18/12*$F18*$C18),0) -> 0 | X18: =ROUND(W18*$A$29,0) -> 0 | Y18: =X18+W18 -> 0 | AA18: =ROUND(S18*(1+$A$2),0) -> 0 | AC18: =AA18/12/173.33333333 -> 0 | AD18: =G18*173.333333*$C$18 -> 0 | AE18: =ROUND((AA18/12*$G18*$C18),0) -> 0 | AF18: =ROUND(AE18*$A$29,0) -> 0 | AG18: =AF18+AE18 -> 0 | AI18: =ROUND(AA18*(1+$A$2),0) -> 0 | AK18: =AI18/12/173.33333333 -> 0 | AL18: =H18*173.333333*$C$18 -> 0 | AM18: =ROUND((AI18/12*$H18*$C18),0) -> 0 | AN18: =ROUND(AM18*$A$29,0) -> 0 | AO18: =AN18+AM18 -> 0 | AQ18: =ROUND(AI18*(1+$A$2),0) -> 0 | AS18: =AQ18/12/173.33333333 -> 0 | AT18: =I18*173.333333*$C$18 -> 0 | AU18: =ROUND((AQ18/12*$I18*$C18),0) -> 0 | AV18: =ROUND(AU18*$A$29,0) -> 0 | AW18: =AV18+AU18 -> 0 | AY18: =O18+W18+AE18+AM18+AU18 -> 0 | AZ18: =SUM(N18+V18+AD18+AL18+AT18) -> 0 | BA18: =AW18+AO18+AG18+Y18+Q18 -> 0
A19: 2. Other Professionals | C19: 0 | D19: 0 | E19: 0 | F19: 0 | G19: 0 | H19: 0 | I19: 0 | K19: =($D19) -> 0 | M19: =K19/12/173.33333333 -> 0 | N19: =E19*173.333333*$C$19 -> 0 | O19: =ROUND((K19/12*$E19*$C19),0) -> 0 | P19: =ROUND(O19*$A$29,0) -> 0 | Q19: =P19+O19 -> 0 | S19: =ROUND(K19*(1+$A$2),0) -> 0 | U19: =S19/12/173.33333333 -> 0 | V19: =F19*173.333333*$C$19 -> 0 | W19: =ROUND((S19/12*$F19*$C19),0) -> 0 | X19: =ROUND(W19*$A$29,0) -> 0 | Y19: =X19+W19 -> 0 | AA19: =ROUND(S19*(1+$A$2),0) -> 0 | AC19: =AA19/12/173.33333333 -> 0 | AD19: =G19*173.333333*$C$19 -> 0 | AE19: =ROUND((AA19/12*$G19*$C19),0) -> 0 | AF19: =ROUND(AE19*$A$29,0) -> 0 | AG19: =AF19+AE19 -> 0 | AI19: =ROUND(AA19*(1+$A$2),0) -> 0 | AK19: =AI19/12/173.33333333 -> 0 | AL19: =H19*173.333333*$C$19 -> 0 | AM19: =ROUND((AI19/12*$H19*$C19),0) -> 0 | AN19: =ROUND(AM19*$A$29,0) -> 0 | AO19: =AN19+AM19 -> 0 | AQ19: =ROUND(AI19*(1+$A$2),0) -> 0 | AS19: =AQ19/12/173.33333333 -> 0 | AT19: =I19*173.333333*$C$19 -> 0 | AU19: =ROUND((AQ19/12*$I19*$C19),0) -> 0 | AV19: =ROUND(AU19*$A$29,0) -> 0 | AW19: =AV19+AU19 -> 0 | AY19: =O19+W19+AE19+AM19+AU19 -> 0 | AZ19: =SUM(N19+V19+AD19+AL19+AT19) -> 0 | BA19: =AW19+AO19+AG19+Y19+Q19 -> 0
A20: 3. Graduate Students | C20: 0 | D20: 0 | E20: 0 | F20: 0 | G20: 0 | H20: 0 | I20: 0 | K20: =($D20) -> 0 | M20: =K20/12/86.6666666 -> 0 | N20: =E20*86.6666666*$C$20 -> 0 | O20: =ROUND((K20/12*$E20*$C20),0) -> 0 | P20: =ROUND(O20*$A$31,0) -> 0 | Q20: =P20+O20 -> 0 | S20: =ROUND(K20*(1+$A$2),0) -> 0 | U20: =S20/12/86.6666666 -> 0 | V20: =F20*86.6666666*$C$20 -> 0 | W20: =ROUND((S20/12*$F20*$C20),0) -> 0 | X20: =ROUND(W20*$A$31,0) -> 0 | Y20: =X20+W20 -> 0 | AA20: =ROUND(S20*(1+$A$2),0) -> 0 | AC20: =AA20/12/86.6666666 -> 0 | AD20: =G20*86.6666666*$C$20 -> 0 | AE20: =ROUND((AA20/12*$G20*$C20),0) -> 0 | AF20: =ROUND(AE20*$A$31,0) -> 0 | AG20: =AF20+AE20 -> 0 | AI20: =ROUND(AA20*(1+$A$2),0) -> 0 | AK20: =AI20/12/86.6666666 -> 0 | AL20: =H20*86.6666666*$C$20 -> 0 | AM20: =ROUND((AI20/12*$H20*$C20),0) -> 0 | AN20: =ROUND(AM20*$A$31,0) -> 0 | AO20: =AN20+AM20 -> 0 | AQ20: =ROUND(AI20*(1+$A$2),0) -> 0 | AS20: =AQ20/12/86.6666666 -> 0 | AT20: =I20*86.6666666*$C$20 -> 0 | AU20: =ROUND((AQ20/12*$I20*$C20),0) -> 0 | AV20: =ROUND(AU20*$A$31,0) -> 0 | AW20: =AV20+AU20 -> 0 | AY20: =O20+W20+AE20+AM20+AU20 -> 0 | AZ20: =SUM(N20+V20+AD20+AL20+AT20) -> 0 | BA20: =AW20+AO20+AG20+Y20+Q20 -> 0
A21: 3. Graduate Students | C21: 0 | D21: 0 | E21: 0 | F21: 0 | G21: 0 | H21: 0 | I21: 0 | K21: =($D21) -> 0 | M21: =K21/12/86.6666666 -> 0 | N21: =E21*86.6666666*$C$21 -> 0 | O21: =ROUND((K21/12*$E21*$C21),0) -> 0 | P21: =ROUND(O21*$A$31,0) -> 0 | Q21: =P21+O21 -> 0 | S21: =ROUND(K21*(1+$A$2),0) -> 0 | U21: =S21/12/86.6666666 -> 0 | V21: =F21*86.6666666*$C$21 -> 0 | W21: =ROUND((S21/12*$F21*$C21),0) -> 0 | X21: =ROUND(W21*$A$31,0) -> 0 | Y21: =X21+W21 -> 0 | AA21: =ROUND(S21*(1+$A$2),0) -> 0 | AC21: =AA21/12/86.6666666 -> 0 | AD21: =G21*86.6666666*$C$21 -> 0 | AE21: =ROUND((AA21/12*$G21*$C21),0) -> 0 | AF21: =ROUND(AE21*$A$31,0) -> 0 | AG21: =AF21+AE21 -> 0 | AI21: =ROUND(AA21*(1+$A$2),0) -> 0 | AK21: =AI21/12/86.6666666 -> 0 | AL21: =H21*86.6666666*$C$21 -> 0 | AM21: =ROUND((AI21/12*$H21*$C21),0) -> 0 | AN21: =ROUND(AM21*$A$31,0) -> 0 | AO21: =AN21+AM21 -> 0 | AQ21: =ROUND(AI21*(1+$A$2),0) -> 0 | AS21: =AQ21/12/86.6666666 -> 0 | AT21: =I21*86.6666666*$C$21 -> 0 | AU21: =ROUND((AQ21/12*$I21*$C21),0) -> 0 | AV21: =ROUND(AU21*$A$31,0) -> 0 | AW21: =AV21+AU21 -> 0 | AY21: =O21+W21+AE21+AM21+AU21 -> 0 | AZ21: =SUM(N21+V21+AD21+AL21+AT21) -> 0 | BA21: =AW21+AO21+AG21+Y21+Q21 -> 0
A22: 4. Undergraduate Students | C22: 0 | D22: =2080*15 -> 31200 | E22: 0 | F22: 0 | G22: 0 | H22: 0 | I22: 0 | K22: =($D22) -> 31200 | M22: =K22/12/173.33333333 -> 15 | N22: =E22*173.333333*$C$22 -> 0 | O22: =ROUND((K22/12*$E22*$C22),0) -> 0 | P22: =ROUND(O22*$C$29,0) -> 0 | Q22: =P22+O22 -> 0 | S22: =ROUND(K22*(1+$A$2),0) -> 31824 | U22: =S22/12/173.33333333 -> 15.3 | V22: =F22*173.333333*$C$22 -> 0 | W22: =ROUND((S22/12*$F22*$C22),0) -> 0 | X22: =ROUND(W22*$C$29,0) -> 0 | Y22: =X22+W22 -> 0 | AA22: =ROUND(S22*(1+$A$2),0) -> 32460 | AC22: =AA22/12/173.33333333 -> 15.605769 | AD22: =G22*173.333333*$C$22 -> 0 | AE22: =ROUND((AA22/12*$G22*$C22),0) -> 0 | AF22: =ROUND(AE22*$C$29,0) -> 0 | AG22: =AF22+AE22 -> 0 | AI22: =ROUND(AA22*(1+$A$2),0) -> 33109 | AK22: =AI22/12/173.33333333 -> 15.917788 | AL22: =H22*173.333333*$C$22 -> 0 | AM22: =ROUND((AI22/12*$H22*$C22),0) -> 0 | AN22: =ROUND(AM22*$C$29,0) -> 0 | AO22: =AN22+AM22 -> 0 | AQ22: =ROUND(AI22*(1+$A$2),0) -> 33771 | AS22: =AQ22/12/173.33333333 -> 16.236058 | AT22: =I22*173.333333*$C$22 -> 0 | AU22: =ROUND((AQ22/12*$I22*$C22),0) -> 0 | AV22: =ROUND(AU22*$C$29,0) -> 0 | AW22: =AV22+AU22 -> 0 | AY22: =O22+W22+AE22+AM22+AU22 -> 0 | AZ22: =SUM(N22+V22+AD22+AL22+AT22) -> 0 | BA22: =AW22+AO22+AG22+Y22+Q22 -> 0
A23: 5. Secretarial-Clerical | C23: 0 | D23: 0 | E23: 0 | F23: 0 | G23: 0 | H23: 0 | I23: 0 | K23: =($D23) -> 0 | M23: =K23/12/173.33333333 -> 0 | N23: =E23*173.333333*$C$23 -> 0 | O23: =ROUND((K23/12*$E23*$C23),0) -> 0 | P23: =ROUND(O23*$C$30,0) -> 0 | Q23: =P23+O23 -> 0 | S23: =ROUND(K23*(1+$A$2),0) -> 0 | U23: =S23/12/173.33333333 -> 0 | V23: =F23*173.333333*$C$23 -> 0 | W23: =ROUND((S23/12*$F23*$C23),0) -> 0 | X23: =ROUND(W23*$C$30,0) -> 0 | Y23: =X23+W23 -> 0 | AA23: =ROUND(S23*(1+$A$2),0) -> 0 | AC23: =AA23/12/173.33333333 -> 0 | AD23: =G23*173.333333*$C$23 -> 0 | AE23: =ROUND((AA23/12*$G23*$C23),0) -> 0 | AF23: =ROUND(AE23*$C$30,0) -> 0 | AG23: =AF23+AE23 -> 0 | AI23: =ROUND(AA23*(1+$A$2),0) -> 0 | AK23: =AI23/12/173.33333333 -> 0 | AL23: =H23*173.333333*$C$23 -> 0 | AM23: =ROUND((AI23/12*$H23*$C23),0) -> 0 | AN23: =ROUND(AM23*$C$30,0) -> 0 | AO23: =AN23+AM23 -> 0 | AQ23: =ROUND(AI23*(1+$A$2),0) -> 0 | AS23: =AQ23/12/173.33333333 -> 0 | AT23: =I23*173.333333*$C$23 -> 0 | AU23: =ROUND((AQ23/12*$I23*$C23),0) -> 0 | AV23: =ROUND(AU23*$C$30,0) -> 0 | AW23: =AV23+AU23 -> 0 | AY23: =O23+W23+AE23+AM23+AU23 -> 0 | AZ23: =SUM(N23+V23+AD23+AL23+AT23) -> 0 | BA23: =AW23+AO23+AG23+Y23+Q23 -> 0
A24: 6. Other | C24: 0 | D24: 0 | E24: 0 | F24: 0 | G24: 0 | H24: 0 | I24: 0 | K24: =($D24) -> 0 | M24: =K24/12/173.33333333 -> 0 | N24: =E24*173.333333*$C$24 -> 0 | O24: =ROUND((K24/12*$E24*$C24),0) -> 0 | P24: =ROUND(O24*$C$31,0) -> 0 | Q24: =P24+O24 -> 0 | S24: =ROUND(K24*(1+$A$2),0) -> 0 | U24: =S24/12/173.33333333 -> 0 | V24: =F24*173.333333*$C$24 -> 0 | W24: =ROUND((S24/12*$F24*$C24),0) -> 0 | X24: =ROUND(W24*$C$31,0) -> 0 | Y24: =X24+W24 -> 0 | AA24: =ROUND(S24*(1+$A$2),0) -> 0 | AC24: =AA24/12/173.33333333 -> 0 | AD24: =G24*173.333333*$C$24 -> 0 | AE24: =ROUND((AA24/12*$G24*$C24),0) -> 0 | AF24: =ROUND(AE24*$C$31,0) -> 0 | AG24: =AF24+AE24 -> 0 | AI24: =ROUND(AA24*(1+$A$2),0) -> 0 | AK24: =AI24/12/173.33333333 -> 0 | AL24: =H24*173.333333*$C$24 -> 0 | AM24: =ROUND((AI24/12*$H24*$C24),0) -> 0 | AN24: =ROUND(AM24*$C$31,0) -> 0 | AO24: =AN24+AM24 -> 0 | AQ24: =ROUND(AI24*(1+$A$2),0) -> 0 | AS24: =AQ24/12/173.33333333 -> 0 | AT24: =I24*173.333333*$C$24 -> 0 | AU24: =ROUND((AQ24/12*$I24*$C24),0) -> 0 | AV24: =ROUND(AU24*$C$31,0) -> 0 | AW24: =AV24+AU24 -> 0 | AY24: =O24+W24+AE24+AM24+AU24 -> 0 | AZ24: =SUM(N24+V24+AD24+AL24+AT24) -> 0 | BA24: =AW24+AO24+AG24+Y24+Q24 -> 0
A25: Total Other Personnel | N25: Total Other Personnel | O25: =SUM(O17:O24) -> 0 | P25: =SUM(P17:P24) -> 0 | Q25: =SUM(Q17:Q24) -> 0 | W25: =SUM(W17:W24) -> 0 | X25: =SUM(X17:X24) -> 0 | Y25: =SUM(Y17:Y24) -> 0 | AE25: =SUM(AE17:AE24) -> 0 | AF25: =SUM(AF17:AF24) -> 0 | AG25: =SUM(AG17:AG24) -> 0 | AM25: =SUM(AM17:AM24) -> 0 | AN25: =SUM(AN17:AN24) -> 0 | AO25: =SUM(AO17:AO24) -> 0 | AU25: =SUM(AU17:AU24) -> 0 | AV25: =SUM(AV17:AV24) -> 0 | AW25: =SUM(AW17:AW24) -> 0 | AY25: =O25+W25+AE25+AM25+AU25 -> 0 | BA25: =AW25+AO25+AG25+Y25+Q25 -> 0
A26: Total Salaries & Wages A+B | N26: Total Salaries & Wages A+B | O26: =O14+O25 -> 0 | P26: =P14+P25 -> 0 | Q26: =Q14+Q25 -> 0 | W26: =W14+W25 -> 0 | X26: =X14+X25 -> 0 | Y26: =Y14+Y25 -> 0 | AE26: =AE14+AE25 -> 0 | AF26: =AF14+AF25 -> 0 | AG26: =AG14+AG25 -> 0 | AM26: =AM14+AM25 -> 0 | AN26: =AN14+AN25 -> 0 | AO26: =AO14+AO25 -> 0 | AU26: =AU14+AU25 -> 0 | AV26: =AV14+AV25 -> 0 | AW26: =AW14+AW25 -> 0 | AY26: =O26+W26+AE26+AM26+AU26 -> 0 | BA26: =Q26+Y26+AG26+AO26+AW26 -> 0
A28: C. Fringe Benefits
A29: 0.365 | B29: Faculty & Academic Staff | C29: 0.015 | D29: Student Hourlies | N29: =SUM(N8:N24) -> 0
A30: 0.164 | B30: Post Docs (Research Associates) | C30: 0.378 | D30: University Staff
A31: 0.225 | B31: Graduate Students (Research Assistants) | C31: 0.048 | D31: LTE
A32: Total Fringe | O32: =P26 -> 0 | V32: =SUM(V8:V24) -> 0 | W32: =X26 -> 0 | AD32: =SUM(AD8:AD24) -> 0 | AE32: =AF26 -> 0 | AL32: =SUM(AL8:AL24) -> 0 | AM32: =AN26 -> 0 | AT32: =SUM(AT8:AT24) -> 0 | AU32: =AV26 -> 0 | BA32: =AU32+AM32+AE32+W32+O32 -> 0
A33: Total Salaries and Fringe Benefits | O33: =+O26+O32 -> 0 | W33: =+W26+W32 -> 0 | AE33: =+AE26+AE32 -> 0 | AM33: =+AM26+AM32 -> 0 | AU33: =+AU26+AU32 -> 0 | BA33: =AU33+AM33+AE33+W33+O33 -> 0
A35: D. Equipment
A36: 1. | O36: 0 | W36: 0 | AE36: 0 | AM36: 0 | AU36: 0 | BA36: =AU36+AM36+AE36+W36+O36 -> 0
A37: 2. | O37: 0 | W37: 0 | AE37: 0 | AM37: 0 | AU37: 0 | BA37: =AU37+AM37+AE37+W37+O37 -> 0
A38: 3. | O38: 0 | W38: 0 | AE38: 0 | AM38: 0 | AU38: 0 | BA38: =AU38+AM38+AE38+W38+O38 -> 0
A39: 4. | O39: 0 | W39: 0 | AE39: 0 | AM39: 0 | AU39: 0 | BA39: =AU39+AM39+AE39+W39+O39 -> 0
A40: 5. | O40: 0 | W40: 0 | AE40: 0 | AM40: 0 | AU40: 0 | BA40: =AU40+AM40+AE40+W40+O40 -> 0
A41: Total Equipment | O41: =SUM(O36:O40) -> 0 | W41: =SUM(W36:W40) -> 0 | AE41: =SUM(AE36:AE40) -> 0 | AM41: =SUM(AM36:AM40) -> 0 | AU41: =SUM(AU36:AU40) -> 0 | BA41: =SUM(BA36:BA40) -> 0
A43: E. Travel
A44: Domestic | B44: use travel worksheet | O44: =SUMIFS(Travel!$V$6:$V$23,Travel!$B$6:$B$23,K3,Travel!$C$6:$C$23,$A$44)+SUMIFS(Travel!$V$6:$V$23,Travel!$B$6:$B$23,"All",Travel!$C$6:$C$23,$A$44) -> 0 | W44: =SUMIFS(Travel!$V$6:$V$23,Travel!$B$6:$B$23,S3,Travel!$C$6:$C$23,$A$44)+SUMIFS(Travel!$V$6:$V$23,Travel!$B$6:$B$23,"All",Travel!$C$6:$C$23,$A$44) -> 0 | AE44: =SUMIFS(Travel!$V$6:$V$23,Travel!$B$6:$B$23,AA3,Travel!$C$6:$C$23,$A$44)+SUMIFS(Travel!$V$6:$V$23,Travel!$B$6:$B$23,"All",Travel!$C$6:$C$23,$A$44) -> 0 | AM44: =SUMIFS(Travel!$V$6:$V$23,Travel!$B$6:$B$23,AI3,Travel!$C$6:$C$23,$A$44)+SUMIFS(Travel!$V$6:$V$23,Travel!$B$6:$B$23,"All",Travel!$C$6:$C$23,$A$44) -> 0 | AU44: =SUMIFS(Travel!$V$6:$V$23,Travel!$B$6:$B$23,AQ3,Travel!$C$6:$C$23,$A$44)+SUMIFS(Travel!$V$6:$V$23,Travel!$B$6:$B$23,"All",Travel!$C$6:$C$23,$A$44) -> 0 | BA44: =AU44+AM44+AE44+W44+O44 -> 0
...

Sheet Travel
D1: Instructions: | E1: Fill in the green areas and the research admin will fill in the actual rates for lodging and meal maxes per location
P2: Per Diem Rates | GSA
O4: GSA Per Diems
B5: Year | C5: Domestic/Intl | D5: Business Purpose / Justification | E5: Conference or Meeting | F5: Depart | G5: Arrive | H5: # Days | I5: # Travelers | J5: Traveler Names | K5: Ground Transport | L5: Flight | M5: Registration | N5: Other | O5: Nightly Lodging Rate | P5: Total Lodging | Q5: Per Diem | R5: First/Last | S5: Total ME&I | U5: Total Per Person | V5: Total Trip Cost
B6: Select Year | C6: Select Option | F6: MSN | H6: 0 | I6: 0 | K6: 0 | L6: 0 | M6: 0 | N6: 0 | O6: 0 | P6: =ROUND((H6-1)*O6,0) -> 0 | Q6: 0 | R6: =ROUND(Q6*0.75,0) -> 0 | S6: =IF(H6>2,(R6*2)+Q6*(H6-2),(R6*2)) -> 0 | U6: =P6+S6+L6+K6+M6+N6 -> 0 | V6: =I6*(P6+S6+L6+K6+M6+N6) -> 0
B7: Select Year | C7: Select Option | F7: MSN | H7: 0 | I7: 0 | K7: 0 | L7: 0 | M7: 0 | N7: 0 | O7: 0 | P7: =ROUND((H7-1)*O7,0) -> 0 | Q7: 0 | R7: =ROUND(Q7*0.75,0) -> 0 | S7: =IF(H7>2,(R7*2)+Q7*(H7-2),(R7*2)) -> 0 | U7: =P7+S7+L7+K7+M7+N7 -> 0 | V7: =I7*(P7+S7+L7+K7+M7+N7) -> 0
B8: Select Year | C8: Select Option | F8: MSN | H8: 0 | I8: 0 | K8: 0 | L8: 0 | M8: 0 | N8: 0 | O8: 0 | P8: =ROUND((H8-1)*O8,0) -> 0 | Q8: 0 | R8: =ROUND(Q8*0.75,0) -> 0 | S8: =IF(H8>2,(R8*2)+Q8*(H8-2),(R8*2)) -> 0 | U8: =P8+S8+L8+K8+M8+N8 -> 0 | V8: =I8*(P8+S8+L8+K8+M8+N8) -> 0
B9: Select Year | C9: Select Option | F9: MSN | H9: 0 | I9: 0 | K9: 0 | L9: 0 | M9: 0 | N9: 0 | O9: 0 | P9: =ROUND((H9-1)*O9,0) -> 0 | Q9: 0 | R9: =ROUND(Q9*0.75,0) -> 0 | S9: =IF(H9>2,(R9*2)+Q9*(H9-2),(R9*2)) -> 0 | U9: =P9+S9+L9+K9+M9+N9 -> 0 | V9: =I9*(P9+S9+L9+K9+M9+N9) -> 0
B10: Select Year | C10: Select Option | F10: MSN | H10: 0 | I10: 0 | K10: 0 | L10: 0 | M10: 0 | N10: 0 | O10: 0 | P10: =ROUND((H10-1)*O10,0) -> 0 | Q10: 0 | R10: =ROUND(Q10*0.75,0) -> 0 | S10: =IF(H10>2,(R10*2)+Q10*(H10-2),(R10*2)) -> 0 | U10: =P10+S10+L10+K10+M10+N10 -> 0 | V10: =I10*(P10+S10+L10+K10+M10+N10) -> 0
B11: Select Year | C11: Select Option | F11: MSN | H11: 0 | I11: 0 | K11: 0 | L11: 0 | M11: 0 | N11: 0 | O11: 0 | P11: =ROUND((H11-1)*O11,0) -> 0 | Q11: 0 | R11: =ROUND(Q11*0.75,0) -> 0 | S11: =IF(H11>2,(R11*2)+Q11*(H11-2),(R11*2)) -> 0 | U11: =P11+S11+L11+K11+M11+N11 -> 0 | V11: =I11*(P11+S11+L11+K11+M11+N11) -> 0
B12: Select Year | C12: Select Option | F12: MSN | H12: 0 | I12: 0 | K12: 0 | L12: 0 | M12: 0 | N12: 0 | O12: 0 | P12: =ROUND((H12-1)*O12,0) -> 0 | Q12: 0 | R12: =ROUND(Q12*0.75,0) -> 0 | S12: =IF(H12>2,(R12*2)+Q12*(H12-2),(R12*2)) -> 0 | U12: =P12+S12+L12+K12+M12+N12 -> 0 | V12: =I12*(P12+S12+L12+K12+M12+N12) -> 0
B13: Select Year | C13: Select Option | F13: MSN | H13: 0 | I13: 0 | K13: 0 | L13: 0 | M13: 0 | N13: 0 | O13: 0 | P13: =ROUND((H13-1)*O13,0) -> 0 | Q13: 0 | R13: =ROUND(Q13*0.75,0) -> 0 | S13: =IF(H13>2,(R13*2)+Q13*(H13-2),(R13*2)) -> 0 | U13: =P13+S13+L13+K13+M13+N13 -> 0 | V13: =I13*(P13+S13+L13+K13+M13+N13) -> 0
B14: Select Year | C14: Select Option | F14: MSN | H14: 0 | I14: 0 | K14: 0 | L14: 0 | M14: 0 | N14: 0 | O14: 0 | P14: =ROUND((H14-1)*O14,0) -> 0 | Q14: 0 | R14: =ROUND(Q14*0.75,0) -> 0 | S14: =IF(H14>2,(R14*2)+Q14*(H14-2),(R14*2)) -> 0 | U14: =P14+S14+L14+K14+M14+N14 -> 0 | V14: =I14*(P14+S14+L14+K14+M14+N14) -> 0
B15: Select Year | C15: Select Option | F15: MSN | H15: 0 | I15: 0 | K15: 0 | L15: 0 | M15: 0 | N15: 0 | O15: 0 | P15: =ROUND((H15-1)*O15,0) -> 0 | Q15: 0 | R15: =ROUND(Q15*0.75,0) -> 0 | S15: =IF(H15>2,(R15*2)+Q15*(H15-2),(R15*2)) -> 0 | U15: =P15+S15+L15+K15+M15+N15 -> 0 | V15: =I15*(P15+S15+L15+K15+M15+N15) -> 0
B16: Select Year | C16: Select Option | F16: MSN | H16: 0 | I16: 0 | K16: 0 | L16: 0 | M16: 0 | N16: 0 | O16: 0 | P16: =ROUND((H16-1)*O16,0) -> 0 | Q16: 0 | R16: =ROUND(Q16*0.75,0) -> 0 | S16: =IF(H16>2,(R16*2)+Q16*(H16-2),(R16*2)) -> 0 | U16: =P16+S16+L16+K16+M16+N16 -> 0 | V16: =I16*(P16+S16+L16+K16+M16+N16) -> 0
B17: Select Year | C17: Select Option | F17: MSN | H17: 0 | I17: 0 | K17: 0 | L17: 0 | M17: 0 | N17: 0 | O17: 0 | P17: =ROUND((H17-1)*O17,0) -> 0 | Q17: 0 | R17: =ROUND(Q17*0.75,0) -> 0 | S17: =IF(H17>2,(R17*2)+Q17*(H17-2),(R17*2)) -> 0 | U17: =P17+S17+L17+K17+M17+N17 -> 0 | V17: =I17*(P17+S17+L17+K17+M17+N17) -> 0
... B23: Select Year | C23: Select Option | F23: MSN | H23: 0 | I23: 0 | K23: 0 | L23: 0 | M23: 0 | N23: 0 | O23: 0 | P23: =ROUND((H23-1)*O23,0) -> 0 | Q23: 0 | R23: =ROUND(Q23*0.75,0) -> 0 | S23: =IF(H23>2,(R23*2)+Q23*(H23-2),(R23*2)) -> 0 | U23: =P23+S23+L23+K23+M23+N23 -> 0 | V23: =I23*(P23+S23+L23+K23+M23+N23) -> 0

Sheet Supplies
C1: Instructions: | D1: Fill in the green areas
B5: Year | C5: General Category of Supplies | D5: Basis of Cost | E5: Justification of Need | F5: QTY | G5: Unit Cost | H5: Total Cost
B6: Select Year | F6: 0 | G6: 0 | H6: =ROUND(F6*G6,0) -> 0
B7: Select Year | F7: 0 | G7: 0 | H7: =ROUND(F7*G7,0) -> 0
B8: Select Year | F8: 0 | G8: 0 | H8: =ROUND(F8*G8,0) -> 0
B9: Select Year | F9: 0 | G9: 0 | H9: =ROUND(F9*G9,0) -> 0
B10: Select Year | F10: 0 | G10: 0 | H10: =ROUND(F10*G10,0) -> 0
B11: Select Year | F11: 0 | G11: 0 | H11: =ROUND(F11*G11,0) -> 0
B12: Select Year | F12: 0 | G12: 0 | H12: =ROUND(F12*G12,0) -> 0
B13: Select Year | F13: 0 | G13: 0 | H13: =ROUND(F13*G13,0) -> 0
B14: Select Year | F14: 0 | G14: 0 | H14: =ROUND(F14*G14,0) -> 0
B15: Select Year | F15: 0 | G15: 0 | H15: =ROUND(F15*G15,0) -> 0
B16: Select Year | F16: 0 | G16: 0 | H16: =ROUND(F16*G16,0) -> 0
B17: Select Year | F17: 0 | G17: 0 | H17: =ROUND(F17*G17,0) -> 0
... B34: Select Year | F34: 0 | G34: 0 | H34: =ROUND(F34*G34,0) -> 0

Sheet Increments
C2: Year 1 | F2: Year 2 | I2: Year 3 | L2: Year 4 | O2: Year 5 | R2: Total | U2: Increment 1 | W2: Increment 2 | Y2: Increment 3 | AA2: Increment 4 | AC2: Increment 5 | AE2: Increment 6 | AH2: Total Authorized | AJ2: Total Unauthorized
A3: Main Project | C3: $ | D3: % | F3: $ | G3: % | I3: $ | J3: % | L3: $ | M3: % | O3: $ | P3: % | T3: % of Year 1 | U3: 0 | V3: =IFERROR(U3/C48,"") | W3: 0 | X3: =IFERROR(W3/(C48-U3),"") | Y3: 0 | Z3: =IFERROR((W3+U3)/(C48-U3-W3),"") | AA3: 0 | AB3: =IFERROR((W3+U3+Y3)/(C48-U3-W3-Y3),"") | AC3: 0 | AD3: =IFERROR((W3+U3+Y3+AA3)/(C48-U3-W3-Y3-AA3),"") | AE3: 0 | AF3: =IFERROR((W3+U3+Y3+AA3+AC3)/(C48-U3-W3-Y3-AA3-AC3),"") | AH3: =U3+W3+Y3+AA3+AC3+AE3 -> 0
A4: Salary | C4: =working!O26 -> 0 | D4: =IFERROR(C4/$C$48,"") | F4: =working!W26 -> 0 | G4: =IFERROR(F4/$F$48,"") | I4: =working!AE26 -> 0 | J4: =IFERROR(I4/$I$48,"") | L4: =working!AM26 -> 0 | M4: =IFERROR(L4/$L$48,"") | O4: =working!AU26 -> 0 | P4: =IFERROR(O4/$O$48,"") | R4: =SUM(C4+F4+I4+L4+O4) -> 0 | S4: =IFERROR(R4/$R$48,"") | U4: {=ROUND(_xlfn.IFS($U$3=0,0,$U$3=$C$48,C4,$U$3=$C$48+$F$48,C4+F4,$U$3=$C$48+$F$48+$I$48,C4+F4+I4,$U$3=$C$48+$F$48+$I$48+$L$48,C4+F4+I4+L4,$U$3=$R$48,R4,$U$3<$C$48,C4*$V$3,AND(U$3>$C$48,$U$3<($C$48+$F$48)),C4+($U$3-$C$48)*G4,AND(U$3>$C$48,$U$3<($C$48+$F$48+$I$48)),C4+F4+($U$3-$C$48-$F$48)*J4,AND(U$3>$C$48,$U$3<($C$48+$F$48+$I$48+$L$48)),C4+F4+I4+($U$3-$C$48-$F$48-$I$48)*M4,AND(U$3>$C$48,$U$3<$R$48),C4+F4+I4+L4+($U$3-$C$48-$F$48-$I$48-$L$48)*P4),0)} -> 0 | W4: {=ROUND(_xlfn.IFS($W$3=0,0,$U$3+$W$3<$C$48,(C4-U4)*$X$3,AND(($U$3+$W$3)>$C$48,($U$3+$W$3)<($C$48+$F$48)),(C4-U4)+(($U$3+$W$3-$C$48)*G4),AND(($U$3+$W$3)>($C$48+$F$48),($U$3+$W$3)<($C$48+$F$48+$I$48)),((C4+F4)-U4)+(($U$3+$W$3-$C$48-$F$48)*J4),AND(($U$3+$W$3)>($C$48+$F$48+$I$48),($U$3+$W$3)<($C$48+$F$48+$I$48+$L$48)),((C4+F4+I4)-U4)+(($U$3+$W$3-$C$48-$F$48-$I$48)*M4),AND(($U$3+$W$3)>($C$48+$F$48+$I$48+$L$48),($U$3+$W$3)<($C$48+$F$48+$I$48+$L$48+$O$48)),((C4+F4+I4+L4)-U4)+(($U$3+$W$3-$C$48-$F$48-$I$48-$L$48)*P4)),0)} -> 0 | Y4: {=ROUND(_xlfn.IFS($Y$3=0,0,$U$3+$W$3+$Y$3<$C$48,(C4-W4-U4)*$Z$3,AND(($U$3+$W$3+$Y$3)>$C$48,($U$3+$W$3+$Y$3)<($C$48+$F$48)),(C4-W4-U4)+(($U$3+$W$3+$Y$3-$C$48)*G4),AND(($U$3+$W$3+$Y$3)>($C$48+$F$48),($U$3+$W$3+$Y$3)<($C$48+$F$48+$I$48)),((C4+F4)-W4-U4)+(($U$3+$W$3+$Y$3-$C$48-$F$48)*J4),AND(($U$3+$W$3+$Y$3)>($C$48+$F$48+$I$48),($U$3+$W$3+$Y$3)<($C$48+$F$48+$I$48+$L$48)),((C4+F4+I4)-W4-U4)+(($U$3+$W$3+$Y$3-$C$48-$F$48-$I$48)*M4),AND(($U$3+$W$3+$Y$3)>($C$48+$F$48+$I$48+$L$48),($U$3+$W$3+$Y$3)<($C$48+$F$48+$I$48+$L$48+$O$48)),((C4+F4+I4+L4)-W4-U4)+(($U$3+$W$3+$Y$3-$C$48-$F$48-$I$48-$L$48)*P4)),0)} -> 0 | AA4: {=ROUND(_xlfn.IFS($AA$3=0,0,$U$3+$W$3+$Y$3+$AA$3<$C$48,(C4-Y4-W4-U4)*$AB$3,AND(($U$3+$W$3+$Y$3+$AA$3)>$C$48,($U$3+$W$3+$Y$3+$AA$3)<($C$48+$F$48)),(C4-Y4-W4-U4)+(($U$3+$W$3+$Y$3+$AA$3-$C$48)*G4),AND(($U$3+$W$3+$Y$3+$AA$3)>($C$48+$F$48),($U$3+$W$3+$Y$3+$AA$3)<($C$48+$F$48+$I$48)),((C4+F4)-Y4-W4-U4)+(($U$3+$W$3+$Y$3+$AA$3-$C$48-$F$48)*J4),AND(($U$3+$W$3+$Y$3+$AA$3)>($C$48+$F$48+$I$48),($U$3+$W$3+$Y$3+$AA$3)<($C$48+$F$48+$I$48+$L$48)),((C4+F4+I4)-Y4-W4-U4)+(($U$3+$W$3+$Y$3+$AA$3-$C$48-$F$48-$I$48)*M4),AND(($U$3+$W$3+$Y$3+$AA$3)>($C$48+$F$48+$I$48+$L$48),($U$3+$W$3+$Y$3+$AA$3)<($C$48+$F$48+$I$48+$L$48+$O$48)),((C4+F4+I4+L4)-Y4-W4-U4)+(($U$3+$W$3+$Y$3+$AA$3-$C$48-$F$48-$I$48-$L$48)*P4)),0)} -> 0 | AC4: {=ROUND(_xlfn.IFS($AC$3=0,0,$U$3+$W$3+$Y$3+$AA$3+$AC$3<$C$48,(C4-AA4-Y4-W4-U4)*$AB$3,AND(($U$3+$W$3+$Y$3+$AA$3+$AC$3)>$C$48,($U$3+$W$3+$Y$3+$AA$3+$AC$3)<($C$48+$F$48)),(C4-AA4-Y4-W4-U4)+(($U$3+$W$3+$Y$3+$AA$3+$AC$3-$C$48)*G4),AND(($U$3+$W$3+$Y$3+$AA$3+$AC$3)>($C$48+$F$48),($U$3+$W$3+$Y$3+$AA$3+$AC$3)<($C$48+$F$48+$I$48)),((C4+F4)-AA4-Y4-W4-U4)+(($U$3+$W$3+$Y$3+$AA$3+$AC$3-$C$48-$F$48)*J4),AND(($U$3+$W$3+$Y$3+$AA$3+$AC$3)>($C$48+$F$48+$I$48),($U$3+$W$3+$Y$3+$AA$3+$AC$3)<($C$48+$F$48+$I$48+$L$48)),((C4+F4+I4)-AA4-Y4-W4-U4)+(($U$3+$W$3+$Y$3+$AA$3+$AC$3-$C$48-$F$48-$I$48)*M4),AND(($U$3+$W$3+$Y$3+$AA$3+$AC$3)>($C$48+$F$48+$I$48+$L$48),($U$3+$W$3+$Y$3+$AA$3+$AC$3)<($C$48+$F$48+$I$48+$L$48+$O$48)),((C4+F4+I4+L4)-AA4-Y4-W4-U4)+(($U$3+$W$3+$Y$3+$AA$3+$AC$3-$C$48-$F$48-$I$48-$L$48)*P4)),0)} -> 0 | AE4: {=ROUND(_xlfn.IFS($AE$3=0,0,$U$3+$W$3+$Y$3+$AA$3+$AC$3+$AE$3<$C$48,(C4-AC4-AA4-Y4-W4-U4)*$AF$3,AND(($U$3+$W$3+$Y$3+$AA$3+$AC$3+$AE$3)>$C$48,($U$3+$W$3+$Y$3+$AA$3+$AC$3+$AE$3)<($C$48+$F$48)),(C4-AC4-AA4-Y4-W4-U4)+(($U$3+$W$3+$Y$3+$AA$3+$AC$3+$AE$3-$C$48)*G4),AND(($U$3+$W$3+$Y$3+$AA$3+$AC$3+$AE$3)>($C$48+$F$48),($U$3+$W$3+$Y$3+$AA$3+$AC$3+$AE$3)<($C$48+$F$48+$I$48)),((C4+F4)-AC4-AA4-Y4-W4-U4)+(($U$3+$W$3+$Y$3+$AA$3+$AC$3+$AE$3-$C$48-$F$48)*J4),AND(($U$3+$W$3+$Y$3+$AA$3+$AC$3+$AE$3)>($C$48+$F$48+$I$48),($U$3+$W$3+$Y$3+$AA$3+$AC$3+$AE$3)<($C$48+$F$48+$I$48+$L$48)),((C4+F4+I4)-AC4-AA4-Y4-W4-U4)+(($U$3+$W$3+$Y$3+$AA$3+$AC$3+$AE$3-$C$48-$F$48-$I$48)*M4),AND(($U$3+$W$3+$Y$3+$AA$3+$AC$3+$AE$3)>($C$48+$F$48+$I$48+$L$48),($U$3+$W$3+$Y$3+$AA$3+$AC$3+$AE$3)<($C$48+$F$48+$I$48+$L$48+$O$48)),((C4+F4+I4+L4)-AC4-AA4-Y4-W4-U4)+(($U$3+$W$3+$Y$3+$AA$3+$AC$3+$AE$3-$C$48-$F$48-$I$48-$L$48)*P4)),0)} -> 0 | AH4: =U4+W4+Y4+AA4+AC4+AE4 -> 0 | AJ4: =R4-AH4 -> 0
A5: Fringe | C5: =working!O32 -> 0 | D5: =IFERROR(C5/$C$48,"") | F5: =working!W32 -> 0 | G5: =IFERROR(F5/$F$48,"") | I5: =working!AE32 -> 0 | J5: =IFERROR(I5/$I$48,"") | L5: =working!AM32 -> 0 | M5: =IFERROR(L5/$L$48,"") | O5: =working!AU32 -> 0 | P5: =IFERROR(O5/$O$48,"") | R5: =SUM(C5+F5+I5+L5+O5) -> 0 | S5: =IFERROR(R5/$R$48,"") | U5: {=ROUND(_xlfn.IFS($U$3=0,0,$U$3=$C$48,C5,$U$3=$C$48+$F$48,C5+F5,$U$3=$C$48+$F$48+$I$48,C5+F5+I5,$U$3=$C$48+$F$48+$I$48+$L$48,C5+F5+I5+L5,$U$3=$R$48,R5,$U$3<$C$48,C5*$V$3,AND(U$3>$C$48,$U$3<($C$48+$F$48)),C5+($U$3-$C$48)*G5,AND(U$3>$C$48,$U$3<($C$48+$F$48+$I$48)),C5+F5+($U$3-$C$48-$F$48)*J5,AND(U$3>$C$48,$U$3<($C$48+$F$48+$I$48+$L$48)),C5+F5+I5+($U$3-$C$48-$F$48-$I$48)*M5,AND(U$3>$C$48,$U$3<$R$48),C5+F5+I5+L5+($U$3-$C$48-$F$48-$I$48-$L$48)*P5),0)} -> 0 | W5: {=ROUND(_xlfn.IFS($W$3=0,0,$U$3+$W$3<$C$48,(C5-U5)*$X$3,AND(($U$3+$W$3)>$C$48,($U$3+$W$3)<($C$48+$F$48)),(C5-U5)+(($U$3+$W$3-$C$48)*G5),AND(($U$3+$W$3)>($C$48+$F$48),($U$3+$W$3)<($C$48+$F$48+$I$48)),((C5+F5)-U5)+(($U$3+$W$3-$C$48-$F$48)*J5),AND(($U$3+$W$3)>($C$48+$F$48+$I$48),($U$3+$W$3)<($C$48+$F$48+$I$48+$L$48)),((C5+F5+I5)-U5)+(($U$3+$W$3-$C$48-$F$48-$I$48)*M5),AND(($U$3+$W$3)>($C$48+$F$48+$I$48+$L$48),($U$3+$W$3)<($C$48+$F$48+$I$48+$L$48+$O$48)),((C5+F5+I5+L5)-U5)+(($U$3+$W$3-$C$48-$F$48-$I$48-$L$48)*P5)),0)} -> 0 | Y5: {=ROUND(_xlfn.IFS($Y$3=0,0,$U$3+$W$3+$Y$3<$C$48,(C5-W5-U5)*$Z$3,AND(($U$3+$W$3+$Y$3)>$C$48,($U$3+$W$3+$Y$3)<($C$48+$F$48)),(C5-W5-U5)+(($U$3+$W$3+$Y$3-$C$48)*G5),AND(($U$3+$W$3+$Y$3)>($C$48+$F$48),($U$3+$W$3+$Y$3)<($C$48+$F$48+$I$48)),((C5+F5)-W5-U5)+(($U$3+$W$3+$Y$3-$C$48-$F$48)*J5),AND(($U$3+$W$3+$Y$3)>($C$48+$F$48+$I$48),($U$3+$W$3+$Y$3)<($C$48+$F$48+$I$48+$L$48)),((C5+F5+I5)-W5-U5)+(($U$3+$W$3+$Y$3-$C$48-$F$48-$I$48)*M5),AND(($U$3+$W$3+$Y$3)>($C$48+$F$48+$I$48+$L$48),($U$3+$W$3+$Y$3)<($C$48+$F$48+$I$48+$L$48+$O$48)),((C5+F5+I5+L5)-W5-U5)+(($U$3+$W$3+$Y$3-$C$48-$F$48-$I$48-$L$48)*P5)),0)} -> 0 | AA5: {=ROUND(_xlfn.IFS($AA$3=0,0,$U$3+$W$3+$Y$3+$AA$3<$C$48,(C5-Y5-W5-U5)*$AB$3,AND(($U$3+$W$3+$Y$3+$AA$3)>$C$48,($U$3+$W$3+$Y$3+$AA$3)<($C$48+$F$48)),(C5-Y5-W5-U5)+(($U$3+$W$3+$Y$3+$AA$3-$C$48)*G5),AND(($U$3+$W$3+$Y$3+$AA$3)>($C$48+$F$48),($U$3+$W$3+$Y$3+$AA$3)<($C$48+$F$48+$I$48)),((C5+F5)-Y5-W5-U5)+(($U$3+$W$3+$Y$3+$AA$3-$C$48-$F$48)*J5),AND(($U$3+$W$3+$Y$3+$AA$3)>($C$48+$F$48+$I$48),($U$3+$W$3+$Y$3+$AA$3)<($C$48+$F$48+$I$48+$L$48)),((C5+F5+I5)-Y5-W5-U5)+(($U$3+$W$3+$Y$3+$AA$3-$C$48-$F$48-$I$48)*M5),AND(($U$3+$W$3+$Y$3+$AA$3)>($C$48+$F$48+$I$48+$L$48),($U$3+$W$3+$Y$3+$AA$3)<($C$48+$F$48+$I$48+$L$48+$O$48)),((C5+F5+I5+L5)-Y5-W5-U5)+(($U$3+$W$3+$Y$3+$AA$3-$C$48-$F$48-$I$48-$L$48)*P5)),0)} -> 0 | AC5: {=ROUND(_xlfn.IFS($AC$3=0,0,$U$3+$W$3+$Y$3+$AA$3+$AC$3<$C$48,(C5-AA5-Y5-W5-U5)*$AB$3,AND(($U$3+$W$3+$Y$3+$AA$3+$AC$3)>$C$48,($U$3+$W$3+$Y$3+$AA$3+$AC$3)<($C$48+$F$48)),(C5-AA5-Y5-W5-U5)+(($U$3+$W$3+$Y$3+$AA$3+$AC$3-$C$48)*G5),AND(($U$3+$W$3+$Y$3+$AA$3+$AC$3)>($C$48+$F$48),($U$3+$W$3+$Y$3+$AA$3+$AC$3)<($C$48+$F$48+$I$48)),((C5+F5)-AA5-Y5-W5-U5)+(($U$3+$W$3+$Y$3+$AA$3+$AC$3-$C$48-$F$48)*J5),AND(($U$3+$W$3+$Y$3+$AA$3+$AC$3)>($C$48+$F$48+$I$48),($U$3+$W$3+$Y$3+$AA$3+$AC$3)<($C$48+$F$48+$I$48+$L$48)),((C5+F5+I5)-AA5-Y5-W5-U5)+(($U$3+$W$3+$Y$3+$AA$3+$AC$3-$C$48-$F$48-$I$48)*M5),AND(($U$3+$W$3+$Y$3+$AA$3+$AC$3)>($C$48+$F$48+$I$48+$L$48),($U$3+$W$3+$Y$3+$AA$3+$AC$3)<($C$48+$F$48+$I$48+$L$48+$O$48)),((C5+F5+I5+L5)-AA5-Y5-W5-U5)+(($U$3+$W$3+$Y$3+$AA$3+$AC$3-$C$48-$F$48-$I$48-$L$48)*P5)),0)} -> 0 | AE5: {=ROUND(_xlfn.IFS($AE$3=0,0,$U$3+$W$3+$Y$3+$AA$3+$AC$3+$AE$3<$C$48,(C5-AC5-AA5-Y5-W5-U5)*$AF$3,AND(($U$3+$W$3+$Y$3+$AA$3+$AC$3+$AE$3)>$C$48,($U$3+$W$3+$Y$3+$AA$3+$AC$3+$AE$3)<($C$48+$F$48)),(C5-AC5-AA5-Y5-W5-U5)+(($U$3+$W$3+$Y$3+$AA$3+$AC$3+$AE$3-$C$48)*G5),AND(($U$3+$W$3+$Y$3+$AA$3+$AC$3+$AE$3)>($C$48+$F$48),($U$3+$W$3+$Y$3+$AA$3+$AC$3+$AE$3)<($C$48+$F$48+$I$48)),((C5+F5)-AC5-AA5-Y5-W5-U5)+(($U$3+$W$3+$Y$3+$AA$3+$AC$3+$AE$3-$C$48-$F$48)*J5),AND(($U$3+$W$3+$Y$3+$AA$3+$AC$3+$AE$3)>($C$48+$F$48+$I$48),($U$3+$W$3+$Y$3+$AA$3+$AC$3+$AE$3)<($C$48+$F$48+$I$48+$L$48)),((C5+F5+I5)-AC5-AA5-Y5-W5-U5)+(($U$3+$W$3+$Y$3+$AA$3+$AC$3+$AE$3-$C$48-$F$48-$I$48)*M5),AND(($U$3+$W$3+$Y$3+$AA$3+$AC$3+$AE$3)>($C$48+$F$48+$I$48+$L$48),($U$3+$W$3+$Y$3+$AA$3+$AC$3+$AE$3)<($C$48+$F$48+$I$48+$L$48+$O$48)),((C5+F5+I5+L5)-AC5-AA5-Y5-W5-U5)+(($U$3+$W$3+$Y$3+$AA$3+$AC$3+$AE$3-$C$48-$F$48-$I$48-$L$48)*P5)),0)} -> 0 | AH5: =U5+W5+Y5+AA5+AC5+AE5 -> 0 | AJ5: =R5-AH5 -> 0
A6: Domestic Travel | C6: =working!O44 -> 0 | D6: =IFERROR(C6/$C$48,"") | F6: =working!W44 -> 0 | G6: =IFERROR(F6/$F$48,"") | I6: =working!AE44 -> 0 | J6: =IFERROR(I6/$I$48,"") | L6: =working!AM44 -> 0 | M6: =IFERROR(L6/$L$48,"") | O6: =working!AU44 -> 0 | P6: =IFERROR(O6/$O$48,"") | R6: =SUM(C6+F6+I6+L6+O6) -> 0 | S6: =IFERROR(R6/$R$48,"") | U6: {=ROUND(_xlfn.IFS($U$3=0,0,$U$3=$C$48,C6,$U$3=$C$48+$F$48,C6+F6,$U$3=$C$48+$F$48+$I$48,C6+F6+I6,$U$3=$C$48+$F$48+$I$48+$L$48,C6+F6+I6+L6,$U$3=$R$48,R6,$U$3<$C$48,C6*$V$3,AND(U$3>$C$48,$U$3<($C$48+$F$48)),C6+($U$3-$C$48)*G6,AND(U$3>$C$48,$U$3<($C$48+$F$48+$I$48)),C6+F6+($U$3-$C$48-$F$48)*J6,AND(U$3>$C$48,$U$3<($C$48+$F$48+$I$48+$L$48)),C6+F6+I6+($U$3-$C$48-$F$48-$I$48)*M6,AND(U$3>$C$48,$U$3<$R$48),C6+F6+I6+L6+($U$3-$C$48-$F$48-$I$48-$L$48)*P6),0)} -> 0 | W6: {=ROUND(_xlfn.IFS($W$3=0,0,$U$3+$W$3<$C$48,(C6-U6)*$X$3,AND(($U$3+$W$3)>$C$48,($U$3+$W$3)<($C$48+$F$48)),(C6-U6)+(($U$3+$W$3-$C$48)*G6),AND(($U$3+$W$3)>($C$48+$F$48),($U$3+$W$3)<($C$48+$F$48+$I$48)),((C6+F6)-U6)+(($U$3+$W$3-$C$48-$F$48)*J6),AND(($U$3+$W$3)>($C$48+$F$48+$I$48),($U$3+$W$3)<($C$48+$F$48+$I$48+$L$48)),((C6+F6+I6)-U6)+(($U$3+$W$3-$C$48-$F$48-$I$48)*M6),AND(($U$3+$W$3)>($C$48+$F$48+$I$48+$L$48),($U$3+$W$3)<($C$48+$F$48+$I$48+$L$48+$O$48)),((C6+F6+I6+L6)-U6)+(($U$3+$W$3-$C$48-$F$48-$I$48-$L$48)*P6)),0)} -> 0 | Y6: {=ROUND(_xlfn.IFS($Y$3=0,0,$U$3+$W$3+$Y$3<$C$48,(C6-W6-U6)*$Z$3,AND(($U$3+$W$3+$Y$3)>$C$48,($U$3+$W$3+$Y$3)<($C$48+$F$48)),(C6-W6-U6)+(($U$3+$W$3+$Y$3-$C$48)*G6),AND(($U$3+$W$3+$Y$3)>($C$48+$F$48),($U$3+$W$3+$Y$3)<($C$48+$F$48+$I$48)),((C6+F6)-W6-U6)+(($U$3+$W$3+$Y$3-$C$48-$F$48)*J6),AND(($U$3+$W$3+$Y$3)>($C$48+$F$48+$I$48),($U$3+$W$3+$Y$3)<($C$48+$F$48+$I$48+$L$48)),((C6+F6+I6)-W6-U6)+(($U$3+$W$3+$Y$3-$C$48-$F$48-$I$48)*M6),AND(($U$3+$W$3+$Y$3)>($C$48+$F$48+$I$48+$L$48),($U$3+$W$3+$Y$3)<($C$48+$F$48+$I$48+$L$48+$O$48)),((C6+F6+I6+L6)-W6-U6)+(($U$3+$W$3+$Y$3-$C$48-$F$48-$I$48-$L$48)*P6)),0)} -> 0 | AA6: {=ROUND(_xlfn.IFS($AA$3=0,0,$U$3+$W$3+$Y$3+$AA$3<$C$48,(C6-Y6-W6-U6)*$AB$3,AND(($U$3+$W$3+$Y$3+$AA$3)>$C$48,($U$3+$W$3+$Y$3+$AA$3)<($C$48+$F$48)),(C6-Y6-W6-U6)+(($U$3+$W$3+$Y$3+$AA$3-$C$48)*G6),AND(($U$3+$W$3+$Y$3+$AA$3)>($C$48+$F$48),($U$3+$W$3+$Y$3+$AA$3)<($C$48+$F$48+$I$48)),((C6+F6)-Y6-W6-U6)+(($U$3+$W$3+$Y$3+$AA$3-$C$48-$F$48)*J6),AND(($U$3+$W$3+$Y$3+$AA$3)>($C$48+$F$48+$I$48),($U$3+$W$3+$Y$3+$AA$3)<($C$48+$F$48+$I$48+$L$48)),((C6+F6+I6)-Y6-W6-U6)+(($U$3+$W$3+$Y$3+$AA$3-$C$48-$F$48-$I$48)*M6),AND(($U$3+$W$3+$Y$3+$AA$3)>($C$48+$F$48+$I$48+$L$48),($U$3+$W$3+$Y$3+$AA$3)<($C$48+$F$48+$I$48+$L$48+$O$48)),((C6+F6+I6+L6)-Y6-W6-U6)+(($U$3+$W$3+$Y$3+$AA$3-$C$48-$F$48-$I$48-$L$48)*P6)),0)} -> 0 | AC6: {=ROUND(_xlfn.IFS($AC$3=0,0,$U$3+$W$3+$Y$3+$AA$3+$AC$3<$C$48,(C6-AA6-Y6-W6-U6)*$AB$3,AND(($U$3+$W$3+$Y$3+$AA$3+$AC$3)>$C$48,($U$3+$W$3+$Y$3+$AA$3+$AC$3)<($C$48+$F$48)),(C6-AA6-Y6-W6-U6)+(($U$3+$W$3+$Y$3+$AA$3+$AC$3-$C$48)*G6),AND(($U$3+$W$3+$Y$3+$AA$3+$AC$3)>($C$48+$F$48),($U$3+$W$3+$Y$3+$AA$3+$AC$3)<($C$48+$F$48+$I$48)),((C6+F6)-AA6-Y6-W6-U6)+(($U$3+$W$3+$Y$3+$AA$3+$AC$3-$C$48-$F$48)*J6),AND(($U$3+$W$3+$Y$3+$AA$3+$AC$3)>($C$48+$F$48+$I$48),($U$3+$W$3+$Y$3+$AA$3+$AC$3)<($C$48+$F$48+$I$48+$L$48)),((C6+F6+I6)-AA6-Y6-W6-U6)+(($U$3+$W$3+$Y$3+$AA$3+$AC$3-$C$48-$F$48-$I$48)*M6),AND(($U$3+$W$3+$Y$3+$AA$3+$AC$3)>($C$48+$F$48+$I$48+$L$48),($U$3+$W$3+$Y$3+$AA$3+$AC$3)<($C$48+$F$48+$I$48+$L$48+$O$48)),((C6+F6+I6+L6)-AA6-Y6-W6-U6)+(($U$3+$W$3+$Y$3+$AA$3+$AC$3-$C$48-$F$48-$I$48-$L$48)*P6)),0)} -> 0 | AE6: {=ROUND(_xlfn.IFS($AE$3=0,0,$U$3+$W$3+$Y$3+$AA$3+$AC$3+$AE$3<$C$48,(C6-AC6-AA6-Y6-W6-U6)*$AF$3,AND(($U$3+$W$3+$Y$3+$AA$3+$AC$3+$AE$3)>$C$48,($U$3+$W$3+$Y$3+$AA$3+$AC$3+$AE$3)<($C$48+$F$48)),(C6-AC6-AA6-Y6-W6-U6)+(($U$3+$W$3+$Y$3+$AA$3+$AC$3+$AE$3-$C$48)*G6),AND(($U$3+$W$3+$Y$3+$AA$3+$AC$3+$AE$3)>($C$48+$F$48),($U$3+$W$3+$Y$3+$AA$3+$AC$3+$AE$3)<($C$48+$F$48+$I$48)),((C6+F6)-AC6-AA6-Y6-W6-U6)+(($U$3+$W$3+$Y$3+$AA$3+$AC$3+$AE$3-$C$48-$F$48)*J6),AND(($U$3+$W$3+$Y$3+$AA$3+$AC$3+$AE$3)>($C$48+$F$48+$I$48),($U$3+$W$3+$Y$3+$AA$3+$AC$3+$AE$3)<($C$48+$F$48+$I$48+$L$48)),((C6+F6+I6)-AC6-AA6-Y6-W6-U6)+(($U$3+$W$3+$Y$3+$AA$3+$AC$3+$AE$3-$C$48-$F$48-$I$48)*M6),AND(($U$3+$W$3+$Y$3+$AA$3+$AC$3+$AE$3)>($C$48+$F$48+$I$48+$L$48),($U$3+$W$3+$Y$3+$AA$3+$AC$3+$AE$3)<($C$48+$F$48+$I$48+$L$48+$O$48)),((C6+F6+I6+L6)-AC6-AA6-Y6-W6-U6)+(($U$3+$W$3+$Y$3+$AA$3+$AC$3+$AE$3-$C$48-$F$48-$I$48-$L$48)*P6)),0)} -> 0 | AH6: =U6+W6+Y6+AA6+AC6+AE6 -> 0 | AJ6: =R6-AH6 -> 0
A7: Foreign Travel | C7: =working!O45 -> 0 | D7: =IFERROR(C7/$C$48,"") | F7: =working!W45 -> 0 | G7: =IFERROR(F7/$F$48,"") | I7: =working!AE45 -> 0 | J7: =IFERROR(I7/$I$48,"") | L7: =working!AM45 -> 0 | M7: =IFERROR(L7/$L$48,"") | O7: =working!AU45 -> 0 | P7: =IFERROR(O7/$O$48,"") | R7: =SUM(C7+F7+I7+L7+O7) -> 0 | S7: =IFERROR(R7/$R$48,"") | U7: {=ROUND(_xlfn.IFS($U$3=0,0,$U$3=$C$48,C7,$U$3=$C$48+$F$48,C7+F7,$U$3=$C$48+$F$48+$I$48,C7+F7+I7,$U$3=$C$48+$F$48+$I$48+$L$48,C7+F7+I7+L7,$U$3=$R$48,R7,$U$3<$C$48,C7*$V$3,AND(U$3>$C$48,$U$3<($C$48+$F$48)),C7+($U$3-$C$48)*G7,AND(U$3>$C$48,$U$3<($C$48+$F$48+$I$48)),C7+F7+($U$3-$C$48-$F$48)*J7,AND(U$3>$C$48,$U$3<($C$48+$F$48+$I$48+$L$48)),C7+F7+I7+($U$3-$C$48-$F$48-$I$48)*M7,AND(U$3>$C$48,$U$3<$R$48),C7+F7+I7+L7+($U$3-$C$48-$F$48-$I$48-$L$48)*P7),0)} -> 0 | W7: {=ROUND(_xlfn.IFS($W$3=0,0,$U$3+$W$3<$C$48,(C7-U7)*$X$3,AND(($U$3+$W$3)>$C$48,($U$3+$W$3)<($C$48+$F$48)),(C7-U7)+(($U$3+$W$3-$C$48)*G7),AND(($U$3+$W$3)>($C$48+$F$48),($U$3+$W$3)<($C$48+$F$48+$I$48)),((C7+F7)-U7)+(($U$3+$W$3-$C$48-$F$48)*J7),AND(($U$3+$W$3)>($C$48+$F$48+$I$48),($U$3+$W$3)<($C$48+$F$48+$I$48+$L$48)),((C7+F7+I7)-U7)+(($U$3+$W$3-$C$48-$F$48-$I$48)*M7),AND(($U$3+$W$3)>($C$48+$F$48+$I$48+$L$48),($U$3+$W$3)<($C$48+$F$48+$I$48+$L$48+$O$48)),((C7+F7+I7+L7)-U7)+(($U$3+$W$3-$C$48-$F$48-$I$48-$L$48)*P7)),0)} -> 0 | Y7: {=ROUND(_xlfn.IFS($Y$3=0,0,$U$3+$W$3+$Y$3<$C$48,(C7-W7-U7)*$Z$3,AND(($U$3+$W$3+$Y$3)>$C$48,($U$3+$W$3+$Y$3)<($C$48+$F$48)),(C7-W7-U7)+(($U$3+$W$3+$Y$3-$C$48)*G7),AND(($U$3+$W$3+$Y$3)>($C$48+$F$48),($U$3+$W$3+$Y$3)<($C$48+$F$48+$I$48)),((C7+F7)-W7-U7)+(($U$3+$W$3+$Y$3-$C$48-$F$48)*J7),AND(($U$3+$W$3+$Y$3)>($C$48+$F$48+$I$48),($U$3+$W$3+$Y$3)<($C$48+$F$48+$I$48+$L$48)),((C7+F7+I7)-W7-U7)+(($U$3+$W$3+$Y$3-$C$48-$F$48-$I$48)*M7),AND(($U$3+$W$3+$Y$3)>($C$48+$F$48+$I$48+$L$48),($U$3+$W$3+$Y$3)<($C$48+$F$48+$I$48+$L$48+$O$48)),((C7+F7+I7+L7)-W7-U7)+(($U$3+$W$3+$Y$3-$C$48-$F$48-$I$48-$L$48)*P7)),0)} -> 0 | AA7: {=ROUND(_xlfn.IFS($AA$3=0,0,$U$3+$W$3+$Y$3+$AA$3<$C$48,(C7-Y7-W7-U7)*$AB$3,AND(($U$3+$W$3+$Y$3+$AA$3)>$C$48,($U$3+$W$3+$Y$3+$AA$3)<($C$48+$F$48)),(C7-Y7-W7-U7)+(($U$3+$W$3+$Y$3+$AA$3-$C$48)*G7),AND(($U$3+$W$3+$Y$3+$AA$3)>($C$48+$F$48),($U$3+$W$3+$Y$3+$AA$3)<($C$48+$F$48+$I$48)),((C7+F7)-Y7-W7-U7)+(($U$3+$W$3+$Y$3+$AA$3-$C$48-$F$48)*J7),AND(($U$3+$W$3+$Y$3+$AA$3)>($C$48+$F$48+$I$48),($U$3+$W$3+$Y$3+$AA$3)<($C$48+$F$48+$I$48+$L$48)),((C7+F7+I7)-Y7-W7-U7)+(($U$3+$W$3+$Y$3+$AA$3-$C$48-$F$48-$I$48)*M7),AND(($U$3+$W$3+$Y$3+$AA$3)>($C$48+$F$48+$I$48+$L$48),($U$3+$W$3+$Y$3+$AA$3)<($C$48+$F$48+$I$48+$L$48+$O$48)),((C7+F7+I7+L7)-Y7-W7-U7)+(($U$3+$W$3+$Y$3+$AA$3-$C$48-$F$48-$I$48-$L$48)*P7)),0)} -> 0 | AC7: {=ROUND(_xlfn.IFS($AC$3=0,0,$U$3+$W$3+$Y$3+$AA$3+$AC$3<$C$48,(C7-AA7-Y7-W7-U7)*$AB$3,AND(($U$3+$W$3+$Y$3+$AA$3+$AC$3)>$C$48,($U$3+$W$3+$Y$3+$AA$3+$AC$3)<($C$48+$F$48)),(C7-AA7-Y7-W7-U7)+(($U$3+$W$3+$Y$3+$AA$3+$AC$3-$C$48)*G7),AND(($U$3+$W$3+$Y$3+$AA$3+$AC$3)>($C$48+$F$48),($U$3+$W$3+$Y$3+$AA$3+$AC$3)<($C$48+$F$48+$I$48)),((C7+F7)-AA7-Y7-W7-U7)+(($U$3+$W$3+$Y$3+$AA$3+$AC$3-$C$48-$F$48)*J7),AND(($U$3+$W$3+$Y$3+$AA$3+$AC$3)>($C$48+$F$48+$I$48),($U$3+$W$3+$Y$3+$AA$3+$AC$3)<($C$48+$F$48+$I$48+$L$48)),((C7+F7+I7)-AA7-Y7-W7-U7)+(($U$3+$W$3+$Y$3+$AA$3+$AC$3-$C$48-$F$48-$I$48)*M7),AND(($U$3+$W$3+$Y$3+$AA$3+$AC$3)>($C$48+$F$48+$I$48+$L$48),($U$3+$W$3+$Y$3+$AA$3+$AC$3)<($C$48+$F$48+$I$48+$L$48+$O$48)),((C7+F7+I7+L7)-AA7-Y7-W7-U7)+(($U$3+$W$3+$Y$3+$AA$3+$AC$3-$C$48-$F$48-$I$48-$L$48)*P7)),0)} -> 0 | AE7: {=ROUND(_xlfn.IFS($AE$3=0,0,$U$3+$W$3+$Y$3+$AA$3+$AC$3+$AE$3<$C$48,(C7-AC7-AA7-Y7-W7-U7)*$AF$3,AND(($U$3+$W$3+$Y$3+$AA$3+$AC$3+$AE$3)>$C$48,($U$3+$W$3+$Y$3+$AA$3+$AC$3+$AE$3)<($C$48+$F$48)),(C7-AC7-AA7-Y7-W7-U7)+(($U$3+$W$3+$Y$3+$AA$3+$AC$3+$AE$3-$C$48)*G7),AND(($U$3+$W$3+$Y$3+$AA$3+$AC$3+$AE$3)>($C$48+$F$48),($U$3+$W$3+$Y$3+$AA$3+$AC$3+$AE$3)<($C$48+$F$48+$I$48)),((C7+F7)-AC7-AA7-Y7-W7-U7)+(($U$3+$W$3+$Y$3+$AA$3+$AC$3+$AE$3-$C$48-$F$48)*J7),AND(($U$3+$W$3+$Y$3+$AA$3+$AC$3+$AE$3)>($C$48+$F$48+$I$48),($U$3+$W$3+$Y$3+$AA$3+$AC$3+$AE$3)<($C$48+$F$48+$I$48+$L$48)),((C7+F7+I7)-AC7-AA7-Y7-W7-U7)+(($U$3+$W$3+$Y$3+$AA$3+$AC$3+$AE$3-$C$48-$F$48-$I$48)*M7),AND(($U$3+$W$3+$Y$3+$AA$3+$AC$3+$AE$3)>($C$48+$F$48+$I$48+$L$48),($U$3+$W$3+$Y$3+$AA$3+$AC$3+$AE$3)<($C$48+$F$48+$I$48+$L$48+$O$48)),((C7+F7+I7+L7)-AC7-AA7-Y7-W7-U7)+(($U$3+$W$3+$Y$3+$AA$3+$AC$3+$AE$3-$C$48-$F$48-$I$48-$L$48)*P7)),0)} -> 0 | AH7: =U7+W7+Y7+AA7+AC7+AE7 -> 0 | AJ7: =R7-AH7 -> 0
A8: Equipment | C8: =working!O41 -> 0 | D8: =IFERROR(C8/$C$48,"") | F8: =working!W41 -> 0 | G8: =IFERROR(F8/$F$48,"") | I8: =working!AE41 -> 0 | J8: =IFERROR(I8/$I$48,"") | L8: =working!AM41 -> 0 | M8: =IFERROR(L8/$L$48,"") | O8: =working!AU41 -> 0 | P8: =IFERROR(O8/$O$48,"") | R8: =SUM(C8+F8+I8+L8+O8) -> 0 | S8: =IFERROR(R8/$R$48,"") | U8: {=ROUND(_xlfn.IFS($U$3=0,0,$U$3=$C$48,C8,$U$3=$C$48+$F$48,C8+F8,$U$3=$C$48+$F$48+$I$48,C8+F8+I8,$U$3=$C$48+$F$48+$I$48+$L$48,C8+F8+I8+L8,$U$3=$R$48,R8,$U$3<$C$48,C8*$V$3,AND(U$3>$C$48,$U$3<($C$48+$F$48)),C8+($U$3-$C$48)*G8,AND(U$3>$C$48,$U$3<($C$48+$F$48+$I$48)),C8+F8+($U$3-$C$48-$F$48)*J8,AND(U$3>$C$48,$U$3<($C$48+$F$48+$I$48+$L$48)),C8+F8+I8+($U$3-$C$48-$F$48-$I$48)*M8,AND(U$3>$C$48,$U$3<$R$48),C8+F8+I8+L8+($U$3-$C$48-$F$48-$I$48-$L$48)*P8),0)} -> 0 | W8: {=ROUND(_xlfn.IFS($W$3=0,0,$U$3+$W$3<$C$48,(C8-U8)*$X$3,AND(($U$3+$W$3)>$C$48,($U$3+$W$3)<($C$48+$F$48)),(C8-U8)+(($U$3+$W$3-$C$48)*G8),AND(($U$3+$W$3)>($C$48+$F$48),($U$3+$W$3)<($C$48+$F$48+$I$48)),((C8+F8)-U8)+(($U$3+$W$3-$C$48-$F$48)*J8),AND(($U$3+$W$3)>($C$48+$F$48+$I$48),($U$3+$W$3)<($C$48+$F$48+$I$48+$L$48)),((C8+F8+I8)-U8)+(($U$3+$W$3-$C$48-$F$48-$I$48)*M8),AND(($U$3+$W$3)>($C$48+$F$48+$I$48+$L$48),($U$3+$W$3)<($C$48+$F$48+$I$48+$L$48+$O$48)),((C8+F8+I8+L8)-U8)+(($U$3+$W$3-$C$48-$F$48-$I$48-$L$48)*P8)),0)} -> 0 | Y8: {=ROUND(_xlfn.IFS($Y$3=0,0,$U$3+$W$3+$Y$3<$C$48,(C8-W8-U8)*$Z$3,AND(($U$3+$W$3+$Y$3)>$C$48,($U$3+$W$3+$Y$3)<($C$48+$F$48)),(C8-W8-U8)+(($U$3+$W$3+$Y$3-$C$48)*G8),AND(($U$3+$W$3+$Y$3)>($C$48+$F$48),($U$3+$W$3+$Y$3)<($C$48+$F$48+$I$48)),((C8+F8)-W8-U8)+(($U$3+$W$3+$Y$3-$C$48-$F$48)*J8),AND(($U$3+$W$3+$Y$3)>($C$48+$F$48+$I$48),($U$3+$W$3+$Y$3)<($C$48+$F$48+$I$48+$L$48)),((C8+F8+I8)-W8-U8)+(($U$3+$W$3+$Y$3-$C$48-$F$48-$I$48)*M8),AND(($U$3+$W$3+$Y$3)>($C$48+$F$48+$I$48+$L$48),($U$3+$W$3+$Y$3)<($C$48+$F$48+$I$48+$L$48+$O$48)),((C8+F8+I8+L8)-W8-U8)+(($U$3+$W$3+$Y$3-$C$48-$F$48-$I$48-$L$48)*P8)),0)} -> 0 | AA8: {=ROUND(_xlfn.IFS($AA$3=0,0,$U$3+$W$3+$Y$3+$AA$3<$C$48,(C8-Y8-W8-U8)*$AB$3,AND(($U$3+$W$3+$Y$3+$AA$3)>$C$48,($U$3+$W$3+$Y$3+$AA$3)<($C$48+$F$48)),(C8-Y8-W8-U8)+(($U$3+$W$3+$Y$3+$AA$3-$C$48)*G8),AND(($U$3+$W$3+$Y$3+$AA$3)>($C$48+$F$48),($U$3+$W$3+$Y$3+$AA$3)<($C$48+$F$48+$I$48)),((C8+F8)-Y8-W8-U8)+(($U$3+$W$3+$Y$3+$AA$3-$C$48-$F$48)*J8),AND(($U$3+$W$3+$Y$3+$AA$3)>($C$48+$F$48+$I$48),($U$3+$W$3+$Y$3+$AA$3)<($C$48+$F$48+$I$48+$L$48)),((C8+F8+I8)-Y8-W8-U8)+(($U$3+$W$3+$Y$3+$AA$3-$C$48-$F$48-$I$48)*M8),AND(($U$3+$W$3+$Y$3+$AA$3)>($C$48+$F$48+$I$48+$L$48),($U$3+$W$3+$Y$3+$AA$3)<($C$48+$F$48+$I$48+$L$48+$O$48)),((C8+F8+I8+L8)-Y8-W8-U8)+(($U$3+$W$3+$Y$3+$AA$3-$C$48-$F$48-$I$48-$L$48)*P8)),0)} -> 0 | AC8: {=ROUND(_xlfn.IFS($AC$3=0,0,$U$3+$W$3+$Y$3+$AA$3+$AC$3<$C$48,(C8-AA8-Y8-W8-U8)*$AB$3,AND(($U$3+$W$3+$Y$3+$AA$3+$AC$3)>$C$48,($U$3+$W$3+$Y$3+$AA$3+$AC$3)<($C$48+$F$48)),(C8-AA8-Y8-W8-U8)+(($U$3+$W$3+$Y$3+$AA$3+$AC$3-$C$48)*G8),AND(($U$3+$W$3+$Y$3+$AA$3+$AC$3)>($C$48+$F$48),($U$3+$W$3+$Y$3+$AA$3+$AC$3)<($C$48+$F$48+$I$48)),((C8+F8)-AA8-Y8-W8-U8)+(($U$3+$W$3+$Y$3+$AA$3+$AC$3-$C$48-$F$48)*J8),AND(($U$3+$W$3+$Y$3+$AA$3+$AC$3)>($C$48+$F$48+$I$48),($U$3+$W$3+$Y$3+$AA$3+$AC$3)<($C$48+$F$48+$I$48+$L$48)),((C8+F8+I8)-AA8-Y8-W8-U8)+(($U$3+$W$3+$Y$3+$AA$3+$AC$3-$C$48-$F$48-$I$48)*M8),AND(($U$3+$W$3+$Y$3+$AA$3+$AC$3)>($C$48+$F$48+$I$48+$L$48),($U$3+$W$3+$Y$3+$AA$3+$AC$3)<($C$48+$F$48+$I$48+$L$48+$O$48)),((C8+F8+I8+L8)-AA8-Y8-W8-U8)+(($U$3+$W$3+$Y$3+$AA$3+$AC$3-$C$48-$F$48-$I$48-$L$48)*P8)),0)} -> 0 | AE8: {=ROUND(_xlfn.IFS($AE$3=0,0,$U$3+$W$3+$Y$3+$AA$3+$AC$3+$AE$3<$C$48,(C8-AC8-AA8-Y8-W8-U8)*$AF$3,AND(($U$3+$W$3+$Y$3+$AA$3+$AC$3+$AE$3)>$C$48,($U$3+$W$3+$Y$3+$AA$3+$AC$3+$AE$3)<($C$48+$F$48)),(C8-AC8-AA8-Y8-W8-U8)+(($U$3+$W$3+$Y$3+$AA$3+$AC$3+$AE$3-$C$48)*G8),AND(($U$3+$W$3+$Y$3+$AA$3+$AC$3+$AE$3)>($C$48+$F$48),($U$3+$W$3+$Y$3+$AA$3+$AC$3+$AE$3)<($C$48+$F$48+$I$48)),((C8+F8)-AC8-AA8-Y8-W8-U8)+(($U$3+$W$3+$Y$3+$AA$3+$AC$3+$AE$3-$C$48-$F$48)*J8),AND(($U$3+$W$3+$Y$3+$AA$3+$AC$3+$AE$3)>($C$48+$F$48+$I$48),($U$3+$W$3+$Y$3+$AA$3+$AC$3+$AE$3)<($C$48+$F$48+$I$48+$L$48)),((C8+F8+I8)-AC8-AA8-Y8-W8-U8)+(($U$3+$W$3+$Y$3+$AA$3+$AC$3+$AE$3-$C$48-$F$48-$I$48)*M8),AND(($U$3+$W$3+$Y$3+$AA$3+$AC$3+$AE$3)>($C$48+$F$48+$I$48+$L$48),($U$3+$W$3+$Y$3+$AA$3+$AC$3+$AE$3)<($C$48+$F$48+$I$48+$L$48+$O$48)),((C8+F8+I8+L8)-AC8-AA8-Y8-W8-U8)+(($U$3+$W$3+$Y$3+$AA$3+$AC$3+$AE$3-$C$48-$F$48-$I$48-$L$48)*P8)),0)} -> 0 | AH8: =U8+W8+Y8+AA8+AC8+AE8 -> 0 | AJ8: =R8-AH8 -> 0
A9: Supplies | C9: =working!O56 -> 0 | D9: =IFERROR(C9/$C$48,"") | F9: =working!W56 -> 0 | G9: =IFERROR(F9/$F$48,"") | I9: =working!AE56 -> 0 | J9: =IFERROR(I9/$I$48,"") | L9: =working!AM56 -> 0 | M9: =IFERROR(L9/$L$48,"") | O9: =working!AU56 -> 0 | P9: =IFERROR(O9/$O$48,"") | R9: =SUM(C9+F9+I9+L9+O9) -> 0 | S9: =IFERROR(R9/$R$48,"") | U9: {=ROUND(_xlfn.IFS($U$3=0,0,$U$3=$C$48,C9,$U$3=$C$48+$F$48,C9+F9,$U$3=$C$48+$F$48+$I$48,C9+F9+I9,$U$3=$C$48+$F$48+$I$48+$L$48,C9+F9+I9+L9,$U$3=$R$48,R9,$U$3<$C$48,C9*$V$3,AND(U$3>$C$48,$U$3<($C$48+$F$48)),C9+($U$3-$C$48)*G9,AND(U$3>$C$48,$U$3<($C$48+$F$48+$I$48)),C9+F9+($U$3-$C$48-$F$48)*J9,AND(U$3>$C$48,$U$3<($C$48+$F$48+$I$48+$L$48)),C9+F9+I9+($U$3-$C$48-$F$48-$I$48)*M9,AND(U$3>$C$48,$U$3<$R$48),C9+F9+I9+L9+($U$3-$C$48-$F$48-$I$48-$L$48)*P9),0)} -> 0 | W9: {=ROUND(_xlfn.IFS($W$3=0,0,$U$3+$W$3<$C$48,(C9-U9)*$X$3,AND(($U$3+$W$3)>$C$48,($U$3+$W$3)<($C$48+$F$48)),(C9-U9)+(($U$3+$W$3-$C$48)*G9),AND(($U$3+$W$3)>($C$48+$F$48),($U$3+$W$3)<($C$48+$F$48+$I$48)),((C9+F9)-U9)+(($U$3+$W$3-$C$48-$F$48)*J9),AND(($U$3+$W$3)>($C$48+$F$48+$I$48),($U$3+$W$3)<($C$48+$F$48+$I$48+$L$48)),((C9+F9+I9)-U9)+(($U$3+$W$3-$C$48-$F$48-$I$48)*M9),AND(($U$3+$W$3)>($C$48+$F$48+$I$48+$L$48),($U$3+$W$3)<($C$48+$F$48+$I$48+$L$48+$O$48)),((C9+F9+I9+L9)-U9)+(($U$3+$W$3-$C$48-$F$48-$I$48-$L$48)*P9)),0)} -> 0 | Y9: {=ROUND(_xlfn.IFS($Y$3=0,0,$U$3+$W$3+$Y$3<$C$48,(C9-W9-U9)*$Z$3,AND(($U$3+$W$3+$Y$3)>$C$48,($U$3+$W$3+$Y$3)<($C$48+$F$48)),(C9-W9-U9)+(($U$3+$W$3+$Y$3-$C$48)*G9),AND(($U$3+$W$3+$Y$3)>($C$48+$F$48),($U$3+$W$3+$Y$3)<($C$48+$F$48+$I$48)),((C9+F9)-W9-U9)+(($U$3+$W$3+$Y$3-$C$48-$F$48)*J9),AND(($U$3+$W$3+$Y$3)>($C$48+$F$48+$I$48),($U$3+$W$3+$Y$3)<($C$48+$F$48+$I$48+$L$48)),((C9+F9+I9)-W9-U9)+(($U$3+$W$3+$Y$3-$C$48-$F$48-$I$48)*M9),AND(($U$3+$W$3+$Y$3)>($C$48+$F$48+$I$48+$L$48),($U$3+$W$3+$Y$3)<($C$48+$F$48+$I$48+$L$48+$O$48)),((C9+F9+I9+L9)-W9-U9)+(($U$3+$W$3+$Y$3-$C$48-$F$48-$I$48-$L$48)*P9)),0)} -> 0 | AA9: {=ROUND(_xlfn.IFS($AA$3=0,0,$U$3+$W$3+$Y$3+$AA$3<$C$48,(C9-Y9-W9-U9)*$AB$3,AND(($U$3+$W$3+$Y$3+$AA$3)>$C$48,($U$3+$W$3+$Y$3+$AA$3)<($C$48+$F$48)),(C9-Y9-W9-U9)+(($U$3+$W$3+$Y$3+$AA$3-$C$48)*G9),AND(($U$3+$W$3+$Y$3+$AA$3)>($C$48+$F$48),($U$3+$W$3+$Y$3+$AA$3)<($C$48+$F$48+$I$48)),((C9+F9)-Y9-W9-U9)+(($U$3+$W$3+$Y$3+$AA$3-$C$48-$F$48)*J9),AND(($U$3+$W$3+$Y$3+$AA$3)>($C$48+$F$48+$I$48),($U$3+$W$3+$Y$3+$AA$3)<($C$48+$F$48+$I$48+$L$48)),((C9+F9+I9)-Y9-W9-U9)+(($U$3+$W$3+$Y$3+$AA$3-$C$48-$F$48-$I$48)*M9),AND(($U$3+$W$3+$Y$3+$AA$3)>($C$48+$F$48+$I$48+$L$48),($U$3+$W$3+$Y$3+$AA$3)<($C$48+$F$48+$I$48+$L$48+$O$48)),((C9+F9+I9+L9)-Y9-W9-U9)+(($U$3+$W$3+$Y$3+$AA$3-$C$48-$F$48-$I$48-$L$48)*P9)),0)} -> 0 | AC9: {=ROUND(_xlfn.IFS($AC$3=0,0,$U$3+$W$3+$Y$3+$AA$3+$AC$3<$C$48,(C9-AA9-Y9-W9-U9)*$AB$3,AND(($U$3+$W$3+$Y$3+$AA$3+$AC$3)>$C$48,($U$3+$W$3+$Y$3+$AA$3+$AC$3)<($C$48+$F$48)),(C9-AA9-Y9-W9-U9)+(($U$3+$W$3+$Y$3+$AA$3+$AC$3-$C$48)*G9),AND(($U$3+$W$3+$Y$3+$AA$3+$AC$3)>($C$48+$F$48),($U$3+$W$3+$Y$3+$AA$3+$AC$3)<($C$48+$F$48+$I$48)),((C9+F9)-AA9-Y9-W9-U9)+(($U$3+$W$3+$Y$3+$AA$3+$AC$3-$C$48-$F$48)*J9),AND(($U$3+$W$3+$Y$3+$AA$3+$AC$3)>($C$48+$F$48+$I$48),($U$3+$W$3+$Y$3+$AA$3+$AC$3)<($C$48+$F$48+$I$48+$L$48)),((C9+F9+I9)-AA9-Y9-W9-U9)+(($U$3+$W$3+$Y$3+$AA$3+$AC$3-$C$48-$F$48-$I$48)*M9),AND(($U$3+$W$3+$Y$3+$AA$3+$AC$3)>($C$48+$F$48+$I$48+$L$48),($U$3+$W$3+$Y$3+$AA$3+$AC$3)<($C$48+$F$48+$I$48+$L$48+$O$48)),((C9+F9+I9+L9)-AA9-Y9-W9-U9)+(($U$3+$W$3+$Y$3+$AA$3+$AC$3-$C$48-$F$48-$I$48-$L$48)*P9)),0)} -> 0 | AE9: {=ROUND(_xlfn.IFS($AE$3=0,0,$U$3+$W$3+$Y$3+$AA$3+$AC$3+$AE$3<$C$48,(C9-AC9-AA9-Y9-W9-U9)*$AF$3,AND(($U$3+$W$3+$Y$3+$AA$3+$AC$3+$AE$3)>$C$48,($U$3+$W$3+$Y$3+$AA$3+$AC$3+$AE$3)<($C$48+$F$48)),(C9-AC9-AA9-Y9-W9-U9)+(($U$3+$W$3+$Y$3+$AA$3+$AC$3+$AE$3-$C$48)*G9),AND(($U$3+$W$3+$Y$3+$AA$3+$AC$3+$AE$3)>($C$48+$F$48),($U$3+$W$3+$Y$3+$AA$3+$AC$3+$AE$3)<($C$48+$F$48+$I$48)),((C9+F9)-AC9-AA9-Y9-W9-U9)+(($U$3+$W$3+$Y$3+$AA$3+$AC$3+$AE$3-$C$48-$F$48)*J9),AND(($U$3+$W$3+$Y$3+$AA$3+$AC$3+$AE$3)>($C$48+$F$48+$I$48),($U$3+$W$3+$Y$3+$AA$3+$AC$3+$AE$3)<($C$48+$F$48+$I$48+$L$48)),((C9+F9+I9)-AC9-AA9-Y9-W9-U9)+(($U$3+$W$3+$Y$3+$AA$3+$AC$3+$AE$3-$C$48-$F$48-$I$48)*M9),AND(($U$3+$W$3+$Y$3+$AA$3+$AC$3+$AE$3)>($C$48+$F$48+$I$48+$L$48),($U$3+$W$3+$Y$3+$AA$3+$AC$3+$AE$3)<($C$48+$F$48+$I$48+$L$48+$O$48)),((C9+F9+I9+L9)-AC9-AA9-Y9-W9-U9)+(($U$3+$W$3+$Y$3+$AA$3+$AC$3+$AE$3-$C$48-$F$48-$I$48-$L$48)*P9)),0)} -> 0 | AH9: =U9+W9+Y9+AA9+AC9+AE9 -> 0 | AJ9: =R9-AH9 -> 0
